{"text_format":"1","workbook":"xlsx","n_sheets":6,"sheets":["Результаты","Анкета","Расчетные таблицы","Предпосылки","Данные СМС","Технический лист"],"not_rendered":{"charts":0,"images":0,"macros":1,"external_links":0,"defined_names":11,"comments":0,"pivot_tables":0},"unopened":[],"bounds":{"document_bytes":16777216,"sheet_cells":100000,"rows_first":2000,"rows_last":500,"rows_between":2000,"halvings":0,"cell_chars":16384,"cell_head_chars":4096},"cells_cut":0,"cells_raw":0,"read":"whole","date_system":"1900"}

{"sheet":"Результаты","index":0,"n_rows":18,"n_cols":5,"rows_kept":18,"cut":false,"hidden":false,"merged":[[16,3,17,3],[16,4,17,4],[14,1,15,1]]}
[]
[null,"ЭКОНОМИЧЕСКИЙ ЭФФЕКТ ОТ ПОКУПКИ ИЛИ АРЕНДЫ ТЕРМИНАЛОВ"]
[]
[null,"Горизонт прогноза","36 мес."]
[null,"Статус компании",{"$f":"Анкета!E7","v":"Действующая"}]
[null,"Покупка или Аренда",{"$f":"Анкета!E8","v":"Покупка терминалов"}]
[]
[null,"Замещение кассовых зон Терминалами"]
[null,"Изначальное количество кассовых зон",{"$f":"'Данные СМС'!C5","v":3}]
[]
[null,"Оставшееся количество кассовых зон",{"$f":"'Данные СМС'!C5-'Данные СМС'!C9","v":1}]
[null,"Количество Терминалов (покупка или аренды)",{"$f":"C9-C11","v":2}]
[]
[]
[null,"Экономический эффект","Накопленный дисконтируемый денежный поток","Экономия","Окупаемость капитальных вложений"]
[null,null,"тыс. руб.","тыс. руб.","мес."]
[null,"При сохранении существующего формата работы",{"$f":"'Расчетные таблицы'!D32","v":6060.9820106610878},{"$f":"C17-C18","v":1918.4144150418479},{"$f":"IF(Анкета!E8=\"Покупка терминалов\",'Расчетные таблицы'!D51,\"Не рассчитывается\")","v":13}]
[null,"При покупке или аренде Терминалов",{"$f":"'Расчетные таблицы'!D50","v":4142.5675956192399}]

{"sheet":"Анкета","index":1,"n_rows":51,"n_cols":7,"rows_kept":51,"cut":false,"hidden":false,"merged":[[3,3,3,4],[3,1,4,1],[3,2,4,2],[3,6,4,6],[3,5,4,5],[5,1,5,6],[46,1,46,6],[8,1,8,6],[13,1,13,6],[15,1,15,6],[26,1,26,6],[40,1,40,6]]}
[]
[null,"АНКЕТА ДЛЯ ПРОВЕДЕНИЯ АУДИТА И ЭКОНОМИЧЕСКОГО РАСЧЕТА"]
[]
[null,"№","Вопросы","Ответ",null,"Пример","Комментарии"]
[null,null,null,"ед.изм.","значение"]
[null,"Вводные параметры"]
[null,1,"Терминалы будут введены в действующей организации или в стартапе?",null,"Действующая","выберите из предложенных вариантов"]
[null,2,"Терминалы предполагается покупаться или брать в аренду?",null,"Покупка терминалов","выберите из предложенных вариантов"]
[null,"Кассы, кассовое ПО и эквайринг"]
[null,3,"Какое кассовое ПО используется Заказчиком?",null,null,"R-Keeper","R-Keeper, Iiko, 1C и т.д."]
[null,4,"Сколько традиционных кассовых аппаратов расположено на объекте?",null,null,2]
[null,5,"Имеется ли эквайринг и, если имеется, то от какого банка?",null,null,"Русский стандарт"]
[null,{"$f":"B12+1","v":6},"Имеется ли свободный фискальный регистратор и, если да, то какая модель ККТ?",null,null,"Retail-01ф","Для использования совместно с кассой самообслуживания"]
[null,"Покупка терминалов"]
[null,{"$f":"B13+1","v":7},"Фото зоны раздачи с кассовыми модулями для планирования мест установки \"Помогаторов\"",null,null,"фото во вложении ","В случае невозможности очного выезда на объект, просим сфотографировать зоны выдачи и выслать фотографии"]
[null,"Организация процесса питания"]
[null,{"$f":"B15+1","v":8},"Описание услуги питания, наличие дополнительных услуг, помимо продаж с раздачи",null,null,"Раздача, станция анимации","Опишите оказываемые услуги питания и дополнительные услуги при наличии"]
[null,{"$f":"B17+1","v":9},"Комплексный обед и описание его реализации на кассе",null,null,"5 блюд за 350 руб."]
[null,10,"Описание Салат-бара: что в него входит и как пробивается по кассе",null,null,"100 г. – 50 руб., входит 10 позиций"]
[null,11,"Различные станции Анимации (если есть)",null,null,"1 станция с различным ассортиментом ","Станция Пицца, Станция Паста и т. д."]
[null,12,"Описание Скидок и Маркетинговых программ",null,null,"скидка 20% на блюда раздачи с 15.00","Скидка после 16-00 или скидка на кофе + круассан"]
[null,13,"Наличие блюд в меню в один день с разным выходом по разным ценам",null,null,"1.суп общее меню 250 мл/ комплекс 300 мл.; 2.гарнир общее меню 150г/ комплекс 200г","Суп картофельный 250 гр. - 50 руб. и картофельный суп 350 гр. - 75 руб."]
[null,14,"Повторяемость_блюд_в_меню","дн./ед.","7 календарных дней","Выберете количество блюд или повторяемость","Как часто повторяются блюда в меню или какое количество блюд в меню"]
[null,{"$f":"B23+1","v":15},"Распишите, пожалуйста, меню на месяц в формате Excel по дням",null,null,"файл во вложении","(Важно!) Меню должно быть одинаковым с прошлым месяцем на 95%"]
[null,{"$f":"B24+1","v":16},"Сколько позиций в общем меню / активных в течение дня?","ед.",null,50]
[null,{"$f":"B25+1","v":17},"Сколько новых блюд добавляется за одну неделю в меню?","ед.",null,"до 10"]
[null,"Персонал объекта и обслуживание гостей"]
[null,{"$f":"B26+1","v":18},"Имеются ли на объектах сотрудники с дотацией?",null,"нет","нет","Дотация реализуется с помощью пропусков (RFID) сотрудников Заказчика"]
[null,19,"Сколько составляет месячная з/п кассира на традиционной кассе, GROSS? ","руб.",42000,40000,"В случае, если работа кассиров осуществляется сменами/вахтами, укажите з/п кассира, если бы он работал все смены/вахты в месяц"]
[null,20,"Сколько кассиров в штате данного заведения?","чел.",3,7,"Есть ли сменность работы (например 2 через 2)"]
[null,21,"Сколько кассовых аппаратов работает в день одновременно?","чел.",3,7,"Не более 10 кассовых зон"]
[null,22,"Сколько составляет площадь, занимаемая традиционным кассовым местом?","кв. м",1.33,1.33,"Включая кассовое оборудование, кассовый бокс, место расположения кассира, тумбы с оборудованием и т.д."]
[null,23,"Сколько чеков пробивается в день в заведении?","ед.","до 400","до 400"]
[null,24,"Сколько составляет среднее время обслуживания 1 гостя на традиционной кассе?","сек",30,30]
[null,{"$f":"B34+1","v":25},"Сколько составляют месячные расходы на подбор одного кассира (оценочно)?","руб.",1000,1000]
[null,26,"Сколько составляет средний чек?","руб.",200,200]
[null,27,"Сколько покупателей в среднем в день?","чел.",300,300]
[null,28,"Сколько рабочих дней в месяце?","дней",21,21]
[null,29,"Какая средняя себестоимость одного приема пищи для одного кассира?","руб.",60,60]
[null,30,"Сколько приемов пищи в день у одного кассира?","раз",2,2]
[null,"Затраты на кассира и кассовый аппарат"]
[null,{"$f":"B40+1","v":31},"Сколько стоит кассовый терминал?","руб.",65000,65000]
[null,{"$f":"B42+1","v":32},"Сколько стоит фискальный принтер?","руб.",32000,32000]
[null,{"$f":"B43+1","v":33},"Сколько стоит POS-системы?","руб.",20000,20000]
[null,{"$f":"B44+1","v":34},"Сколько стоит стол и стул в общем?","руб.",1000,1000]
[null,{"$f":"B45+1","v":35},"Сколько стоит униформа на одного кассира?","руб.",1500,1500]
[null,"Выручка"]
[null,{"$f":"B46+1","v":36},"Какая доля безналичных платежей в выручке?","%",0.95,0.95]
[null,{"$f":"B48+1","v":37},"Сколько процентов составляет предположительный ежемесячный темп роста выручки?","%","н/д","н/д"]
[null,{"$f":"B49+1","v":38},"Сколько процентов составляет предположительный ежемесячный темп роста расходов?","%","н/д","н/д"]
[null,{"$f":"B50+1","v":39},"Сколько процентов составляет предположительный ежемесячный темп роста доли безналичных платежей?","%","н/д","н/д"]

{"sheet":"Расчетные таблицы","index":2,"n_rows":57,"n_cols":39,"rows_kept":57,"cut":false,"hidden":false,"merged":[]}
[null,null,"№ пер.",1,2,3,4,5,6,7,8,9,10,11,12,13,14,15,16,17,18,19,20,21,22,23,24,25,26,27,28,29,30,31,32,33,34,35,36]
[null,"РАСЧЕТНЫЕ ТАБЛИЦЫ","ед.изм.","1 мес.","2 мес.","3 мес.","4 мес.","5 мес.","6 мес.","7 мес.","8 мес.","9 мес.","10 мес.","11 мес.","12 мес.","13 мес.","14 мес.","15 мес.","16 мес.","17 мес.","18 мес.","19 мес.","20 мес.","21 мес.","22 мес.","23 мес.","24 мес.","25 мес.","26 мес.","27 мес.","28 мес.","29 мес.","30 мес.","31 мес.","32 мес.","33 мес.","34 мес.","35 мес.","36 мес."]
[]
[]
[null,"Количество кассовых аппаратов и терминалов"]
[null,"До изменений"]
[null,"Количество терминалов","ед.",0,{"$f":"D7","v":0},{"$f":"E7","v":0},0,0,0,0,0,0,0,0,0,0,0,0,0,0,0,0,0,0,0,0,0,0,0,0,0,0,0,0,0,0,0,0,0]
[null,"Количество кассовых аппаратов","ед.",{"$f":"Предпосылки!F9","v":3},3,3,3,3,3,3,3,3,3,3,3,3,3,3,3,3,3,3,3,3,3,3,3,3,3,3,3,3,3,3,3,3,3,3,3]
[null,"После изменений"]
[null,"Действующая компания"]
[null,"Количество терминалов","ед.",{"$f":"IF(D$16=2,'Технический лист'!$D7,IF(D$16=3,'Технический лист'!$D14,IF(D$16=4,'Технический лист'!$D21, IF(D$16=5, 'Технический лист'!$D28, IF(D$16=6,'Технический лист'!$D35, IF(D$16=7,'Технический лист'!$D42,IF(D$16=8, 'Технический лист'!$D49, IF(D$16=9,'Технический лист'!$D56,IF(D$16=10, 'Технический лист'!$D63)))))))))","v":1},{"$f":"IF(E$16=2,'Технический лист'!$D8,IF(E$16=3,'Технический лист'!$D15,IF(E$16=4,'Технический лист'!$D22, IF(E$16=5, 'Технический лист'!$D29, IF(E$16=6,'Технический лист'!$D36, IF(E$16=7,'Технический лист'!$D43,IF(E$16=8, 'Технический лист'!$D50, IF(E$16=9,'Технический лист'!$D57,IF(E$16=10, 'Технический лист'!$D64)))))))))","v":2},{"$f":"IF(F$16=2,'Технический лист'!$D9,IF(F$16=3,'Технический лист'!$D16,IF(F$16=4,'Технический лист'!$D23, IF(F$16=5, 'Технический лист'!$D30, IF(F$16=6,'Технический лист'!$D37, IF(F$16=7,'Технический лист'!$D44,IF(F$16=8, 'Технический лист'!$D51, IF(F$16=9,'Технический лист'!$D58,IF(F$16=10, 'Технический лист'!$D65)))))))))","v":2},{"$f":"IF(G$16=2,'Технический лист'!$D10,IF(G$16=3,'Технический лист'!$D17,IF(G$16=4,'Технический лист'!$D24, IF(G$16=5, 'Технический лист'!$D31, IF(G$16=6,'Технический лист'!$D38, IF(G$16=7,'Технический лист'!$D45,IF(G$16=8, 'Технический лист'!$D52, IF(G$16=9,'Технический лист'!$D59,IF(G$16=10, 'Технический лист'!$D66)))))))))","v":2},{"$f":"IF(H$16=2,'Технический лист'!$D11,IF(H$16=3,'Технический лист'!$D18,IF(H$16=4,'Технический лист'!$D25, IF(H$16=5, 'Технический лист'!$D32, IF(H$16=6,'Технический лист'!$D39, IF(H$16=7,'Технический лист'!$D46,IF(H$16=8, 'Технический лист'!$D53, IF(H$16=9,'Технический лист'!$D60,IF(H$16=10, 'Технический лист'!$D67)))))))))","v":2},{"$f":"IF(I$16=2,'Технический лист'!$D12,IF(I$16=3,'Технический лист'!$D19,IF(I$16=4,'Технический лист'!$D26, IF(I$16=5, 'Технический лист'!$D33, IF(I$16=6,'Технический лист'!$D40, IF(I$16=7,'Технический лист'!$D47,IF(I$16=8, 'Технический лист'!$D54, IF(I$16=9,'Технический лист'!$D61,IF(I$16=10, 'Технический лист'!$D68)))))))))","v":2},{"$f":"I11","v":2},{"$f":"J11","v":2},2,2,2,2,2,2,2,2,2,2,2,2,2,2,2,2,2,2,2,2,2,2,2,2,2,2,2,2]
[null,"Количество кассовых аппаратов","ед.",{"$f":"IF(D$16=2,'Технический лист'!$E7,IF(D$16=3,'Технический лист'!$E14,IF(D$16=4,'Технический лист'!$E21, IF(D$16=5, 'Технический лист'!$E28, IF(D$16=6,'Технический лист'!$E35, IF(D$16=7,'Технический лист'!$E42,IF(D$16=8, 'Технический лист'!$E49, IF(D$16=9,'Технический лист'!$E56,IF(D$16=10, 'Технический лист'!$E63)))))))))","v":2},{"$f":"IF(E$16=2,'Технический лист'!$E8,IF(E$16=3,'Технический лист'!$E15,IF(E$16=4,'Технический лист'!$E22, IF(E$16=5, 'Технический лист'!$E29, IF(E$16=6,'Технический лист'!$E36, IF(E$16=7,'Технический лист'!$E43,IF(E$16=8, 'Технический лист'!$E50, IF(E$16=9,'Технический лист'!$E57,IF(E$16=10, 'Технический лист'!$E64)))))))))","v":1},{"$f":"IF(F$16=2,'Технический лист'!$E9,IF(F$16=3,'Технический лист'!$E16,IF(F$16=4,'Технический лист'!$E23, IF(F$16=5, 'Технический лист'!$E30, IF(F$16=6,'Технический лист'!$E37, IF(F$16=7,'Технический лист'!$E44,IF(F$16=8, 'Технический лист'!$E51, IF(F$16=9,'Технический лист'!$E58,IF(F$16=10, 'Технический лист'!$E65)))))))))","v":1},{"$f":"IF(G$16=2,'Технический лист'!$E10,IF(G$16=3,'Технический лист'!$E17,IF(G$16=4,'Технический лист'!$E24, IF(G$16=5, 'Технический лист'!$E31, IF(G$16=6,'Технический лист'!$E38, IF(G$16=7,'Технический лист'!$E45,IF(G$16=8, 'Технический лист'!$E52, IF(G$16=9,'Технический лист'!$E59,IF(G$16=10, 'Технический лист'!$E66)))))))))","v":1},{"$f":"IF(H$16=2,'Технический лист'!$E11,IF(H$16=3,'Технический лист'!$E18,IF(H$16=4,'Технический лист'!$E25, IF(H$16=5, 'Технический лист'!$E32, IF(H$16=6,'Технический лист'!$E39, IF(H$16=7,'Технический лист'!$E46,IF(H$16=8, 'Технический лист'!$E53, IF(H$16=9,'Технический лист'!$E60,IF(H$16=10, 'Технический лист'!$E67)))))))))","v":1},{"$f":"IF(I$16=2,'Технический лист'!$E12,IF(I$16=3,'Технический лист'!$E19,IF(I$16=4,'Технический лист'!$E26, IF(I$16=5, 'Технический лист'!$E33, IF(I$16=6,'Технический лист'!$E40, IF(I$16=7,'Технический лист'!$E47,IF(I$16=8, 'Технический лист'!$E54, IF(I$16=9,'Технический лист'!$E61,IF(I$16=10, 'Технический лист'!$E68)))))))))","v":1},{"$f":"I12","v":1},{"$f":"J12","v":1},1,1,1,1,1,1,1,1,1,1,1,1,1,1,1,1,1,1,1,1,1,1,1,1,1,1,1,1]
[null,"Стартап"]
[null,"Действующая","ед.",{"$f":"IF(D$16=2,'Технический лист'!$D12,IF(D$16=3,'Технический лист'!$D19,IF(D$16=4,'Технический лист'!$D26, IF(D$16=5, 'Технический лист'!$D33, IF(D$16=6,'Технический лист'!$D40, IF(D$16=7,'Технический лист'!$D47,IF(D$16=8, 'Технический лист'!$D54, IF(D$16=9,'Технический лист'!$D61,IF(D$16=10, 'Технический лист'!$D68)))))))))","v":2},{"$f":"IF(E$16=2,'Технический лист'!$D12,IF(E$16=3,'Технический лист'!$D19,IF(E$16=4,'Технический лист'!$D26, IF(E$16=5, 'Технический лист'!$D33, IF(E$16=6,'Технический лист'!$D40, IF(E$16=7,'Технический лист'!$D47,IF(E$16=8, 'Технический лист'!$D54, IF(E$16=9,'Технический лист'!$D61,IF(E$16=10, 'Технический лист'!$D68)))))))))","v":2},{"$f":"IF(F$16=2,'Технический лист'!$D12,IF(F$16=3,'Технический лист'!$D19,IF(F$16=4,'Технический лист'!$D26, IF(F$16=5, 'Технический лист'!$D33, IF(F$16=6,'Технический лист'!$D40, IF(F$16=7,'Технический лист'!$D47,IF(F$16=8, 'Технический лист'!$D54, IF(F$16=9,'Технический лист'!$D61,IF(F$16=10, 'Технический лист'!$D68)))))))))","v":2},{"$f":"IF(G$16=2,'Технический лист'!$D12,IF(G$16=3,'Технический лист'!$D19,IF(G$16=4,'Технический лист'!$D26, IF(G$16=5, 'Технический лист'!$D33, IF(G$16=6,'Технический лист'!$D40, IF(G$16=7,'Технический лист'!$D47,IF(G$16=8, 'Технический лист'!$D54, IF(G$16=9,'Технический лист'!$D61,IF(G$16=10, 'Технический лист'!$D68)))))))))","v":2},{"$f":"IF(H$16=2,'Технический лист'!$D12,IF(H$16=3,'Технический лист'!$D19,IF(H$16=4,'Технический лист'!$D26, IF(H$16=5, 'Технический лист'!$D33, IF(H$16=6,'Технический лист'!$D40, IF(H$16=7,'Технический лист'!$D47,IF(H$16=8, 'Технический лист'!$D54, IF(H$16=9,'Технический лист'!$D61,IF(H$16=10, 'Технический лист'!$D68)))))))))","v":2},{"$f":"IF(I$16=2,'Технический лист'!$D12,IF(I$16=3,'Технический лист'!$D19,IF(I$16=4,'Технический лист'!$D26, IF(I$16=5, 'Технический лист'!$D33, IF(I$16=6,'Технический лист'!$D40, IF(I$16=7,'Технический лист'!$D47,IF(I$16=8, 'Технический лист'!$D54, IF(I$16=9,'Технический лист'!$D61,IF(I$16=10, 'Технический лист'!$D68)))))))))","v":2},{"$f":"IF(J$16=2,'Технический лист'!$D12,IF(J$16=3,'Технический лист'!$D19,IF(J$16=4,'Технический лист'!$D26, IF(J$16=5, 'Технический лист'!$D33, IF(J$16=6,'Технический лист'!$D40, IF(J$16=7,'Технический лист'!$D47,IF(J$16=8, 'Технический лист'!$D54, IF(J$16=9,'Технический лист'!$D61,IF(J$16=10, 'Технический лист'!$D68)))))))))","v":2},{"$f":"IF(K$16=2,'Технический лист'!$D12,IF(K$16=3,'Технический лист'!$D19,IF(K$16=4,'Технический лист'!$D26, IF(K$16=5, 'Технический лист'!$D33, IF(K$16=6,'Технический лист'!$D40, IF(K$16=7,'Технический лист'!$D47,IF(K$16=8, 'Технический лист'!$D54, IF(K$16=9,'Технический лист'!$D61,IF(K$16=10, 'Технический лист'!$D68)))))))))","v":2},{"$f":"IF(L$16=2,'Технический лист'!$D12,IF(L$16=3,'Технический лист'!$D19,IF(L$16=4,'Технический лист'!$D26, IF(L$16=5, 'Технический лист'!$D33, IF(L$16=6,'Технический лист'!$D40, IF(L$16=7,'Технический лист'!$D47,IF(L$16=8, 'Технический лист'!$D54, IF(L$16=9,'Технический лист'!$D61,IF(L$16=10, 'Технический лист'!$D68)))))))))","v":2},{"$f":"IF(M$16=2,'Технический лист'!$D12,IF(M$16=3,'Технический лист'!$D19,IF(M$16=4,'Технический лист'!$D26, IF(M$16=5, 'Технический лист'!$D33, IF(M$16=6,'Технический лист'!$D40, IF(M$16=7,'Технический лист'!$D47,IF(M$16=8, 'Технический лист'!$D54, IF(M$16=9,'Технический лист'!$D61,IF(M$16=10, 'Технический лист'!$D68)))))))))","v":2},{"$f":"IF(N$16=2,'Технический лист'!$D12,IF(N$16=3,'Технический лист'!$D19,IF(N$16=4,'Технический лист'!$D26, IF(N$16=5, 'Технический лист'!$D33, IF(N$16=6,'Технический лист'!$D40, IF(N$16=7,'Технический лист'!$D47,IF(N$16=8, 'Технический лист'!$D54, IF(N$16=9,'Технический лист'!$D61,IF(N$16=10, 'Технический лист'!$D68)))))))))","v":2},{"$f":"IF(O$16=2,'Технический лист'!$D12,IF(O$16=3,'Технический лист'!$D19,IF(O$16=4,'Технический лист'!$D26, IF(O$16=5, 'Технический лист'!$D33, IF(O$16=6,'Технический лист'!$D40, IF(O$16=7,'Технический лист'!$D47,IF(O$16=8, 'Технический лист'!$D54, IF(O$16=9,'Технический лист'!$D61,IF(O$16=10, 'Технический лист'!$D68)))))))))","v":2},{"$f":"IF(P$16=2,'Технический лист'!$D12,IF(P$16=3,'Технический лист'!$D19,IF(P$16=4,'Технический лист'!$D26, IF(P$16=5, 'Технический лист'!$D33, IF(P$16=6,'Технический лист'!$D40, IF(P$16=7,'Технический лист'!$D47,IF(P$16=8, 'Технический лист'!$D54, IF(P$16=9,'Технический лист'!$D61,IF(P$16=10, 'Технический лист'!$D68)))))))))","v":2},{"$f":"IF(Q$16=2,'Технический лист'!$D12,IF(Q$16=3,'Технический лист'!$D19,IF(Q$16=4,'Технический лист'!$D26, IF(Q$16=5, 'Технический лист'!$D33, IF(Q$16=6,'Технический лист'!$D40, IF(Q$16=7,'Технический лист'!$D47,IF(Q$16=8, 'Технический лист'!$D54, IF(Q$16=9,'Технический лист'!$D61,IF(Q$16=10, 'Технический лист'!$D68)))))))))","v":2},{"$f":"IF(R$16=2,'Технический лист'!$D12,IF(R$16=3,'Технический лист'!$D19,IF(R$16=4,'Технический лист'!$D26, IF(R$16=5, 'Технический лист'!$D33, IF(R$16=6,'Технический лист'!$D40, IF(R$16=7,'Технический лист'!$D47,IF(R$16=8, 'Технический лист'!$D54, IF(R$16=9,'Технический лист'!$D61,IF(R$16=10, 'Технический лист'!$D68)))))))))","v":2},{"$f":"IF(S$16=2,'Технический лист'!$D12,IF(S$16=3,'Технический лист'!$D19,IF(S$16=4,'Технический лист'!$D26, IF(S$16=5, 'Технический лист'!$D33, IF(S$16=6,'Технический лист'!$D40, IF(S$16=7,'Технический лист'!$D47,IF(S$16=8, 'Технический лист'!$D54, IF(S$16=9,'Технический лист'!$D61,IF(S$16=10, 'Технический лист'!$D68)))))))))","v":2},{"$f":"IF(T$16=2,'Технический лист'!$D12,IF(T$16=3,'Технический лист'!$D19,IF(T$16=4,'Технический лист'!$D26, IF(T$16=5, 'Технический лист'!$D33, IF(T$16=6,'Технический лист'!$D40, IF(T$16=7,'Технический лист'!$D47,IF(T$16=8, 'Технический лист'!$D54, IF(T$16=9,'Технический лист'!$D61,IF(T$16=10, 'Технический лист'!$D68)))))))))","v":2},{"$f":"IF(U$16=2,'Технический лист'!$D12,IF(U$16=3,'Технический лист'!$D19,IF(U$16=4,'Технический лист'!$D26, IF(U$16=5, 'Технический лист'!$D33, IF(U$16=6,'Технический лист'!$D40, IF(U$16=7,'Технический лист'!$D47,IF(U$16=8, 'Технический лист'!$D54, IF(U$16=9,'Технический лист'!$D61,IF(U$16=10, 'Технический лист'!$D68)))))))))","v":2},{"$f":"IF(V$16=2,'Технический лист'!$D12,IF(V$16=3,'Технический лист'!$D19,IF(V$16=4,'Технический лист'!$D26, IF(V$16=5, 'Технический лист'!$D33, IF(V$16=6,'Технический лист'!$D40, IF(V$16=7,'Технический лист'!$D47,IF(V$16=8, 'Технический лист'!$D54, IF(V$16=9,'Технический лист'!$D61,IF(V$16=10, 'Технический лист'!$D68)))))))))","v":2},{"$f":"IF(W$16=2,'Технический лист'!$D12,IF(W$16=3,'Технический лист'!$D19,IF(W$16=4,'Технический лист'!$D26, IF(W$16=5, 'Технический лист'!$D33, IF(W$16=6,'Технический лист'!$D40, IF(W$16=7,'Технический лист'!$D47,IF(W$16=8, 'Технический лист'!$D54, IF(W$16=9,'Технический лист'!$D61,IF(W$16=10, 'Технический лист'!$D68)))))))))","v":2},{"$f":"IF(X$16=2,'Технический лист'!$D12,IF(X$16=3,'Технический лист'!$D19,IF(X$16=4,'Технический лист'!$D26, IF(X$16=5, 'Технический лист'!$D33, IF(X$16=6,'Технический лист'!$D40, IF(X$16=7,'Технический лист'!$D47,IF(X$16=8, 'Технический лист'!$D54, IF(X$16=9,'Технический лист'!$D61,IF(X$16=10, 'Технический лист'!$D68)))))))))","v":2},{"$f":"IF(Y$16=2,'Технический лист'!$D12,IF(Y$16=3,'Технический лист'!$D19,IF(Y$16=4,'Технический лист'!$D26, IF(Y$16=5, 'Технический лист'!$D33, IF(Y$16=6,'Технический лист'!$D40, IF(Y$16=7,'Технический лист'!$D47,IF(Y$16=8, 'Технический лист'!$D54, IF(Y$16=9,'Технический лист'!$D61,IF(Y$16=10, 'Технический лист'!$D68)))))))))","v":2},{"$f":"IF(Z$16=2,'Технический лист'!$D12,IF(Z$16=3,'Технический лист'!$D19,IF(Z$16=4,'Технический лист'!$D26, IF(Z$16=5, 'Технический лист'!$D33, IF(Z$16=6,'Технический лист'!$D40, IF(Z$16=7,'Технический лист'!$D47,IF(Z$16=8, 'Технический лист'!$D54, IF(Z$16=9,'Технический лист'!$D61,IF(Z$16=10, 'Технический лист'!$D68)))))))))","v":2},{"$f":"IF(AA$16=2,'Технический лист'!$D12,IF(AA$16=3,'Технический лист'!$D19,IF(AA$16=4,'Технический лист'!$D26, IF(AA$16=5, 'Технический лист'!$D33, IF(AA$16=6,'Технический лист'!$D40, IF(AA$16=7,'Технический лист'!$D47,IF(AA$16=8, 'Технический лист'!$D54, IF(AA$16=9,'Технический лист'!$D61,IF(AA$16=10, 'Технический лист'!$D68)))))))))","v":2},{"$f":"IF(AB$16=2,'Технический лист'!$D12,IF(AB$16=3,'Технический лист'!$D19,IF(AB$16=4,'Технический лист'!$D26, IF(AB$16=5, 'Технический лист'!$D33, IF(AB$16=6,'Технический лист'!$D40, IF(AB$16=7,'Технический лист'!$D47,IF(AB$16=8, 'Технический лист'!$D54, IF(AB$16=9,'Технический лист'!$D61,IF(AB$16=10, 'Технический лист'!$D68)))))))))","v":2},{"$f":"IF(AC$16=2,'Технический лист'!$D12,IF(AC$16=3,'Технический лист'!$D19,IF(AC$16=4,'Технический лист'!$D26, IF(AC$16=5, 'Технический лист'!$D33, IF(AC$16=6,'Технический лист'!$D40, IF(AC$16=7,'Технический лист'!$D47,IF(AC$16=8, 'Технический лист'!$D54, IF(AC$16=9,'Технический лист'!$D61,IF(AC$16=10, 'Технический лист'!$D68)))))))))","v":2},{"$f":"IF(AD$16=2,'Технический лист'!$D12,IF(AD$16=3,'Технический лист'!$D19,IF(AD$16=4,'Технический лист'!$D26, IF(AD$16=5, 'Технический лист'!$D33, IF(AD$16=6,'Технический лист'!$D40, IF(AD$16=7,'Технический лист'!$D47,IF(AD$16=8, 'Технический лист'!$D54, IF(AD$16=9,'Технический лист'!$D61,IF(AD$16=10, 'Технический лист'!$D68)))))))))","v":2},{"$f":"IF(AE$16=2,'Технический лист'!$D12,IF(AE$16=3,'Технический лист'!$D19,IF(AE$16=4,'Технический лист'!$D26, IF(AE$16=5, 'Технический лист'!$D33, IF(AE$16=6,'Технический лист'!$D40, IF(AE$16=7,'Технический лист'!$D47,IF(AE$16=8, 'Технический лист'!$D54, IF(AE$16=9,'Технический лист'!$D61,IF(AE$16=10, 'Технический лист'!$D68)))))))))","v":2},{"$f":"IF(AF$16=2,'Технический лист'!$D12,IF(AF$16=3,'Технический лист'!$D19,IF(AF$16=4,'Технический лист'!$D26, IF(AF$16=5, 'Технический лист'!$D33, IF(AF$16=6,'Технический лист'!$D40, IF(AF$16=7,'Технический лист'!$D47,IF(AF$16=8, 'Технический лист'!$D54, IF(AF$16=9,'Технический лист'!$D61,IF(AF$16=10, 'Технический лист'!$D68)))))))))","v":2},{"$f":"IF(AG$16=2,'Технический лист'!$D12,IF(AG$16=3,'Технический лист'!$D19,IF(AG$16=4,'Технический лист'!$D26, IF(AG$16=5, 'Технический лист'!$D33, IF(AG$16=6,'Технический лист'!$D40, IF(AG$16=7,'Технический лист'!$D47,IF(AG$16=8, 'Технический лист'!$D54, IF(AG$16=9,'Технический лист'!$D61,IF(AG$16=10, 'Технический лист'!$D68)))))))))","v":2},{"$f":"IF(AH$16=2,'Технический лист'!$D12,IF(AH$16=3,'Технический лист'!$D19,IF(AH$16=4,'Технический лист'!$D26, IF(AH$16=5, 'Технический лист'!$D33, IF(AH$16=6,'Технический лист'!$D40, IF(AH$16=7,'Технический лист'!$D47,IF(AH$16=8, 'Технический лист'!$D54, IF(AH$16=9,'Технический лист'!$D61,IF(AH$16=10, 'Технический лист'!$D68)))))))))","v":2},{"$f":"IF(AI$16=2,'Технический лист'!$D12,IF(AI$16=3,'Технический лист'!$D19,IF(AI$16=4,'Технический лист'!$D26, IF(AI$16=5, 'Технический лист'!$D33, IF(AI$16=6,'Технический лист'!$D40, IF(AI$16=7,'Технический лист'!$D47,IF(AI$16=8, 'Технический лист'!$D54, IF(AI$16=9,'Технический лист'!$D61,IF(AI$16=10, 'Технический лист'!$D68)))))))))","v":2},{"$f":"IF(AJ$16=2,'Технический лист'!$D12,IF(AJ$16=3,'Технический лист'!$D19,IF(AJ$16=4,'Технический лист'!$D26, IF(AJ$16=5, 'Технический лист'!$D33, IF(AJ$16=6,'Технический лист'!$D40, IF(AJ$16=7,'Технический лист'!$D47,IF(AJ$16=8, 'Технический лист'!$D54, IF(AJ$16=9,'Технический лист'!$D61,IF(AJ$16=10, 'Технический лист'!$D68)))))))))","v":2},{"$f":"IF(AK$16=2,'Технический лист'!$D12,IF(AK$16=3,'Технический лист'!$D19,IF(AK$16=4,'Технический лист'!$D26, IF(AK$16=5, 'Технический лист'!$D33, IF(AK$16=6,'Технический лист'!$D40, IF(AK$16=7,'Технический лист'!$D47,IF(AK$16=8, 'Технический лист'!$D54, IF(AK$16=9,'Технический лист'!$D61,IF(AK$16=10, 'Технический лист'!$D68)))))))))","v":2},{"$f":"IF(AL$16=2,'Технический лист'!$D12,IF(AL$16=3,'Технический лист'!$D19,IF(AL$16=4,'Технический лист'!$D26, IF(AL$16=5, 'Технический лист'!$D33, IF(AL$16=6,'Технический лист'!$D40, IF(AL$16=7,'Технический лист'!$D47,IF(AL$16=8, 'Технический лист'!$D54, IF(AL$16=9,'Технический лист'!$D61,IF(AL$16=10, 'Технический лист'!$D68)))))))))","v":2},{"$f":"IF(AM$16=2,'Технический лист'!$D12,IF(AM$16=3,'Технический лист'!$D19,IF(AM$16=4,'Технический лист'!$D26, IF(AM$16=5, 'Технический лист'!$D33, IF(AM$16=6,'Технический лист'!$D40, IF(AM$16=7,'Технический лист'!$D47,IF(AM$16=8, 'Технический лист'!$D54, IF(AM$16=9,'Технический лист'!$D61,IF(AM$16=10, 'Технический лист'!$D68)))))))))","v":2}]
[null,"Количество кассовых аппаратов","ед.",{"$f":"IF(D$16=2,'Технический лист'!$E$12,IF(D$16=3,'Технический лист'!$E$19,IF(D$16=4,'Технический лист'!$E$26, IF(D$16=5, 'Технический лист'!$E$33, IF(D$16=6,'Технический лист'!$E$40, IF(D$16=7,'Технический лист'!$E$47,IF(D$16=8, 'Технический лист'!$E$54, IF(D$16=9,'Технический лист'!$E$61,IF(D$16=10, 'Технический лист'!$E$68)))))))))","v":1},{"$f":"IF(E$16=2,'Технический лист'!$E$12,IF(E$16=3,'Технический лист'!$E$19,IF(E$16=4,'Технический лист'!$E$26, IF(E$16=5, 'Технический лист'!$E$33, IF(E$16=6,'Технический лист'!$E$40, IF(E$16=7,'Технический лист'!$E$47,IF(E$16=8, 'Технический лист'!$E$54, IF(E$16=9,'Технический лист'!$E$61,IF(E$16=10, 'Технический лист'!$E$68)))))))))","v":1},{"$f":"IF(F$16=2,'Технический лист'!$E$12,IF(F$16=3,'Технический лист'!$E$19,IF(F$16=4,'Технический лист'!$E$26, IF(F$16=5, 'Технический лист'!$E$33, IF(F$16=6,'Технический лист'!$E$40, IF(F$16=7,'Технический лист'!$E$47,IF(F$16=8, 'Технический лист'!$E$54, IF(F$16=9,'Технический лист'!$E$61,IF(F$16=10, 'Технический лист'!$E$68)))))))))","v":1},{"$f":"IF(G$16=2,'Технический лист'!$E$12,IF(G$16=3,'Технический лист'!$E$19,IF(G$16=4,'Технический лист'!$E$26, IF(G$16=5, 'Технический лист'!$E$33, IF(G$16=6,'Технический лист'!$E$40, IF(G$16=7,'Технический лист'!$E$47,IF(G$16=8, 'Технический лист'!$E$54, IF(G$16=9,'Технический лист'!$E$61,IF(G$16=10, 'Технический лист'!$E$68)))))))))","v":1},{"$f":"IF(H$16=2,'Технический лист'!$E$12,IF(H$16=3,'Технический лист'!$E$19,IF(H$16=4,'Технический лист'!$E$26, IF(H$16=5, 'Технический лист'!$E$33, IF(H$16=6,'Технический лист'!$E$40, IF(H$16=7,'Технический лист'!$E$47,IF(H$16=8, 'Технический лист'!$E$54, IF(H$16=9,'Технический лист'!$E$61,IF(H$16=10, 'Технический лист'!$E$68)))))))))","v":1},{"$f":"IF(I$16=2,'Технический лист'!$E$12,IF(I$16=3,'Технический лист'!$E$19,IF(I$16=4,'Технический лист'!$E$26, IF(I$16=5, 'Технический лист'!$E$33, IF(I$16=6,'Технический лист'!$E$40, IF(I$16=7,'Технический лист'!$E$47,IF(I$16=8, 'Технический лист'!$E$54, IF(I$16=9,'Технический лист'!$E$61,IF(I$16=10, 'Технический лист'!$E$68)))))))))","v":1},{"$f":"IF(J$16=2,'Технический лист'!$E$12,IF(J$16=3,'Технический лист'!$E$19,IF(J$16=4,'Технический лист'!$E$26, IF(J$16=5, 'Технический лист'!$E$33, IF(J$16=6,'Технический лист'!$E$40, IF(J$16=7,'Технический лист'!$E$47,IF(J$16=8, 'Технический лист'!$E$54, IF(J$16=9,'Технический лист'!$E$61,IF(J$16=10, 'Технический лист'!$E$68)))))))))","v":1},{"$f":"IF(K$16=2,'Технический лист'!$E$12,IF(K$16=3,'Технический лист'!$E$19,IF(K$16=4,'Технический лист'!$E$26, IF(K$16=5, 'Технический лист'!$E$33, IF(K$16=6,'Технический лист'!$E$40, IF(K$16=7,'Технический лист'!$E$47,IF(K$16=8, 'Технический лист'!$E$54, IF(K$16=9,'Технический лист'!$E$61,IF(K$16=10, 'Технический лист'!$E$68)))))))))","v":1},{"$f":"IF(L$16=2,'Технический лист'!$E$12,IF(L$16=3,'Технический лист'!$E$19,IF(L$16=4,'Технический лист'!$E$26, IF(L$16=5, 'Технический лист'!$E$33, IF(L$16=6,'Технический лист'!$E$40, IF(L$16=7,'Технический лист'!$E$47,IF(L$16=8, 'Технический лист'!$E$54, IF(L$16=9,'Технический лист'!$E$61,IF(L$16=10, 'Технический лист'!$E$68)))))))))","v":1},{"$f":"IF(M$16=2,'Технический лист'!$E$12,IF(M$16=3,'Технический лист'!$E$19,IF(M$16=4,'Технический лист'!$E$26, IF(M$16=5, 'Технический лист'!$E$33, IF(M$16=6,'Технический лист'!$E$40, IF(M$16=7,'Технический лист'!$E$47,IF(M$16=8, 'Технический лист'!$E$54, IF(M$16=9,'Технический лист'!$E$61,IF(M$16=10, 'Технический лист'!$E$68)))))))))","v":1},{"$f":"IF(N$16=2,'Технический лист'!$E$12,IF(N$16=3,'Технический лист'!$E$19,IF(N$16=4,'Технический лист'!$E$26, IF(N$16=5, 'Технический лист'!$E$33, IF(N$16=6,'Технический лист'!$E$40, IF(N$16=7,'Технический лист'!$E$47,IF(N$16=8, 'Технический лист'!$E$54, IF(N$16=9,'Технический лист'!$E$61,IF(N$16=10, 'Технический лист'!$E$68)))))))))","v":1},{"$f":"IF(O$16=2,'Технический лист'!$E$12,IF(O$16=3,'Технический лист'!$E$19,IF(O$16=4,'Технический лист'!$E$26, IF(O$16=5, 'Технический лист'!$E$33, IF(O$16=6,'Технический лист'!$E$40, IF(O$16=7,'Технический лист'!$E$47,IF(O$16=8, 'Технический лист'!$E$54, IF(O$16=9,'Технический лист'!$E$61,IF(O$16=10, 'Технический лист'!$E$68)))))))))","v":1},{"$f":"IF(P$16=2,'Технический лист'!$E$12,IF(P$16=3,'Технический лист'!$E$19,IF(P$16=4,'Технический лист'!$E$26, IF(P$16=5, 'Технический лист'!$E$33, IF(P$16=6,'Технический лист'!$E$40, IF(P$16=7,'Технический лист'!$E$47,IF(P$16=8, 'Технический лист'!$E$54, IF(P$16=9,'Технический лист'!$E$61,IF(P$16=10, 'Технический лист'!$E$68)))))))))","v":1},{"$f":"IF(Q$16=2,'Технический лист'!$E$12,IF(Q$16=3,'Технический лист'!$E$19,IF(Q$16=4,'Технический лист'!$E$26, IF(Q$16=5, 'Технический лист'!$E$33, IF(Q$16=6,'Технический лист'!$E$40, IF(Q$16=7,'Технический лист'!$E$47,IF(Q$16=8, 'Технический лист'!$E$54, IF(Q$16=9,'Технический лист'!$E$61,IF(Q$16=10, 'Технический лист'!$E$68)))))))))","v":1},{"$f":"IF(R$16=2,'Технический лист'!$E$12,IF(R$16=3,'Технический лист'!$E$19,IF(R$16=4,'Технический лист'!$E$26, IF(R$16=5, 'Технический лист'!$E$33, IF(R$16=6,'Технический лист'!$E$40, IF(R$16=7,'Технический лист'!$E$47,IF(R$16=8, 'Технический лист'!$E$54, IF(R$16=9,'Технический лист'!$E$61,IF(R$16=10, 'Технический лист'!$E$68)))))))))","v":1},{"$f":"IF(S$16=2,'Технический лист'!$E$12,IF(S$16=3,'Технический лист'!$E$19,IF(S$16=4,'Технический лист'!$E$26, IF(S$16=5, 'Технический лист'!$E$33, IF(S$16=6,'Технический лист'!$E$40, IF(S$16=7,'Технический лист'!$E$47,IF(S$16=8, 'Технический лист'!$E$54, IF(S$16=9,'Технический лист'!$E$61,IF(S$16=10, 'Технический лист'!$E$68)))))))))","v":1},{"$f":"IF(T$16=2,'Технический лист'!$E$12,IF(T$16=3,'Технический лист'!$E$19,IF(T$16=4,'Технический лист'!$E$26, IF(T$16=5, 'Технический лист'!$E$33, IF(T$16=6,'Технический лист'!$E$40, IF(T$16=7,'Технический лист'!$E$47,IF(T$16=8, 'Технический лист'!$E$54, IF(T$16=9,'Технический лист'!$E$61,IF(T$16=10, 'Технический лист'!$E$68)))))))))","v":1},{"$f":"IF(U$16=2,'Технический лист'!$E$12,IF(U$16=3,'Технический лист'!$E$19,IF(U$16=4,'Технический лист'!$E$26, IF(U$16=5, 'Технический лист'!$E$33, IF(U$16=6,'Технический лист'!$E$40, IF(U$16=7,'Технический лист'!$E$47,IF(U$16=8, 'Технический лист'!$E$54, IF(U$16=9,'Технический лист'!$E$61,IF(U$16=10, 'Технический лист'!$E$68)))))))))","v":1},{"$f":"IF(V$16=2,'Технический лист'!$E$12,IF(V$16=3,'Технический лист'!$E$19,IF(V$16=4,'Технический лист'!$E$26, IF(V$16=5, 'Технический лист'!$E$33, IF(V$16=6,'Технический лист'!$E$40, IF(V$16=7,'Технический лист'!$E$47,IF(V$16=8, 'Технический лист'!$E$54, IF(V$16=9,'Технический лист'!$E$61,IF(V$16=10, 'Технический лист'!$E$68)))))))))","v":1},{"$f":"IF(W$16=2,'Технический лист'!$E$12,IF(W$16=3,'Технический лист'!$E$19,IF(W$16=4,'Технический лист'!$E$26, IF(W$16=5, 'Технический лист'!$E$33, IF(W$16=6,'Технический лист'!$E$40, IF(W$16=7,'Технический лист'!$E$47,IF(W$16=8, 'Технический лист'!$E$54, IF(W$16=9,'Технический лист'!$E$61,IF(W$16=10, 'Технический лист'!$E$68)))))))))","v":1},{"$f":"IF(X$16=2,'Технический лист'!$E$12,IF(X$16=3,'Технический лист'!$E$19,IF(X$16=4,'Технический лист'!$E$26, IF(X$16=5, 'Технический лист'!$E$33, IF(X$16=6,'Технический лист'!$E$40, IF(X$16=7,'Технический лист'!$E$47,IF(X$16=8, 'Технический лист'!$E$54, IF(X$16=9,'Технический лист'!$E$61,IF(X$16=10, 'Технический лист'!$E$68)))))))))","v":1},{"$f":"IF(Y$16=2,'Технический лист'!$E$12,IF(Y$16=3,'Технический лист'!$E$19,IF(Y$16=4,'Технический лист'!$E$26, IF(Y$16=5, 'Технический лист'!$E$33, IF(Y$16=6,'Технический лист'!$E$40, IF(Y$16=7,'Технический лист'!$E$47,IF(Y$16=8, 'Технический лист'!$E$54, IF(Y$16=9,'Технический лист'!$E$61,IF(Y$16=10, 'Технический лист'!$E$68)))))))))","v":1},{"$f":"IF(Z$16=2,'Технический лист'!$E$12,IF(Z$16=3,'Технический лист'!$E$19,IF(Z$16=4,'Технический лист'!$E$26, IF(Z$16=5, 'Технический лист'!$E$33, IF(Z$16=6,'Технический лист'!$E$40, IF(Z$16=7,'Технический лист'!$E$47,IF(Z$16=8, 'Технический лист'!$E$54, IF(Z$16=9,'Технический лист'!$E$61,IF(Z$16=10, 'Технический лист'!$E$68)))))))))","v":1},{"$f":"IF(AA$16=2,'Технический лист'!$E$12,IF(AA$16=3,'Технический лист'!$E$19,IF(AA$16=4,'Технический лист'!$E$26, IF(AA$16=5, 'Технический лист'!$E$33, IF(AA$16=6,'Технический лист'!$E$40, IF(AA$16=7,'Технический лист'!$E$47,IF(AA$16=8, 'Технический лист'!$E$54, IF(AA$16=9,'Технический лист'!$E$61,IF(AA$16=10, 'Технический лист'!$E$68)))))))))","v":1},{"$f":"IF(AB$16=2,'Технический лист'!$E$12,IF(AB$16=3,'Технический лист'!$E$19,IF(AB$16=4,'Технический лист'!$E$26, IF(AB$16=5, 'Технический лист'!$E$33, IF(AB$16=6,'Технический лист'!$E$40, IF(AB$16=7,'Технический лист'!$E$47,IF(AB$16=8, 'Технический лист'!$E$54, IF(AB$16=9,'Технический лист'!$E$61,IF(AB$16=10, 'Технический лист'!$E$68)))))))))","v":1},{"$f":"IF(AC$16=2,'Технический лист'!$E$12,IF(AC$16=3,'Технический лист'!$E$19,IF(AC$16=4,'Технический лист'!$E$26, IF(AC$16=5, 'Технический лист'!$E$33, IF(AC$16=6,'Технический лист'!$E$40, IF(AC$16=7,'Технический лист'!$E$47,IF(AC$16=8, 'Технический лист'!$E$54, IF(AC$16=9,'Технический лист'!$E$61,IF(AC$16=10, 'Технический лист'!$E$68)))))))))","v":1},{"$f":"IF(AD$16=2,'Технический лист'!$E$12,IF(AD$16=3,'Технический лист'!$E$19,IF(AD$16=4,'Технический лист'!$E$26, IF(AD$16=5, 'Технический лист'!$E$33, IF(AD$16=6,'Технический лист'!$E$40, IF(AD$16=7,'Технический лист'!$E$47,IF(AD$16=8, 'Технический лист'!$E$54, IF(AD$16=9,'Технический лист'!$E$61,IF(AD$16=10, 'Технический лист'!$E$68)))))))))","v":1},{"$f":"IF(AE$16=2,'Технический лист'!$E$12,IF(AE$16=3,'Технический лист'!$E$19,IF(AE$16=4,'Технический лист'!$E$26, IF(AE$16=5, 'Технический лист'!$E$33, IF(AE$16=6,'Технический лист'!$E$40, IF(AE$16=7,'Технический лист'!$E$47,IF(AE$16=8, 'Технический лист'!$E$54, IF(AE$16=9,'Технический лист'!$E$61,IF(AE$16=10, 'Технический лист'!$E$68)))))))))","v":1},{"$f":"IF(AF$16=2,'Технический лист'!$E$12,IF(AF$16=3,'Технический лист'!$E$19,IF(AF$16=4,'Технический лист'!$E$26, IF(AF$16=5, 'Технический лист'!$E$33, IF(AF$16=6,'Технический лист'!$E$40, IF(AF$16=7,'Технический лист'!$E$47,IF(AF$16=8, 'Технический лист'!$E$54, IF(AF$16=9,'Технический лист'!$E$61,IF(AF$16=10, 'Технический лист'!$E$68)))))))))","v":1},{"$f":"IF(AG$16=2,'Технический лист'!$E$12,IF(AG$16=3,'Технический лист'!$E$19,IF(AG$16=4,'Технический лист'!$E$26, IF(AG$16=5, 'Технический лист'!$E$33, IF(AG$16=6,'Технический лист'!$E$40, IF(AG$16=7,'Технический лист'!$E$47,IF(AG$16=8, 'Технический лист'!$E$54, IF(AG$16=9,'Технический лист'!$E$61,IF(AG$16=10, 'Технический лист'!$E$68)))))))))","v":1},{"$f":"IF(AH$16=2,'Технический лист'!$E$12,IF(AH$16=3,'Технический лист'!$E$19,IF(AH$16=4,'Технический лист'!$E$26, IF(AH$16=5, 'Технический лист'!$E$33, IF(AH$16=6,'Технический лист'!$E$40, IF(AH$16=7,'Технический лист'!$E$47,IF(AH$16=8, 'Технический лист'!$E$54, IF(AH$16=9,'Технический лист'!$E$61,IF(AH$16=10, 'Технический лист'!$E$68)))))))))","v":1},{"$f":"IF(AI$16=2,'Технический лист'!$E$12,IF(AI$16=3,'Технический лист'!$E$19,IF(AI$16=4,'Технический лист'!$E$26, IF(AI$16=5, 'Технический лист'!$E$33, IF(AI$16=6,'Технический лист'!$E$40, IF(AI$16=7,'Технический лист'!$E$47,IF(AI$16=8, 'Технический лист'!$E$54, IF(AI$16=9,'Технический лист'!$E$61,IF(AI$16=10, 'Технический лист'!$E$68)))))))))","v":1},{"$f":"IF(AJ$16=2,'Технический лист'!$E$12,IF(AJ$16=3,'Технический лист'!$E$19,IF(AJ$16=4,'Технический лист'!$E$26, IF(AJ$16=5, 'Технический лист'!$E$33, IF(AJ$16=6,'Технический лист'!$E$40, IF(AJ$16=7,'Технический лист'!$E$47,IF(AJ$16=8, 'Технический лист'!$E$54, IF(AJ$16=9,'Технический лист'!$E$61,IF(AJ$16=10, 'Технический лист'!$E$68)))))))))","v":1},{"$f":"IF(AK$16=2,'Технический лист'!$E$12,IF(AK$16=3,'Технический лист'!$E$19,IF(AK$16=4,'Технический лист'!$E$26, IF(AK$16=5, 'Технический лист'!$E$33, IF(AK$16=6,'Технический лист'!$E$40, IF(AK$16=7,'Технический лист'!$E$47,IF(AK$16=8, 'Технический лист'!$E$54, IF(AK$16=9,'Технический лист'!$E$61,IF(AK$16=10, 'Технический лист'!$E$68)))))))))","v":1},{"$f":"IF(AL$16=2,'Технический лист'!$E$12,IF(AL$16=3,'Технический лист'!$E$19,IF(AL$16=4,'Технический лист'!$E$26, IF(AL$16=5, 'Технический лист'!$E$33, IF(AL$16=6,'Технический лист'!$E$40, IF(AL$16=7,'Технический лист'!$E$47,IF(AL$16=8, 'Технический лист'!$E$54, IF(AL$16=9,'Технический лист'!$E$61,IF(AL$16=10, 'Технический лист'!$E$68)))))))))","v":1},{"$f":"IF(AM$16=2,'Технический лист'!$E$12,IF(AM$16=3,'Технический лист'!$E$19,IF(AM$16=4,'Технический лист'!$E$26, IF(AM$16=5, 'Технический лист'!$E$33, IF(AM$16=6,'Технический лист'!$E$40, IF(AM$16=7,'Технический лист'!$E$47,IF(AM$16=8, 'Технический лист'!$E$54, IF(AM$16=9,'Технический лист'!$E$61,IF(AM$16=10, 'Технический лист'!$E$68)))))))))","v":1}]
[null,"Количество кассовых зон","ед.",{"$f":"D8","v":3},{"$f":"D16","v":3},{"$f":"E16","v":3},3,3,3,3,3,3,3,3,3,3,3,3,3,3,3,3,3,3,3,3,3,3,3,3,3,3,3,3,3,3,3,3,3]
[]
[]
["1.","Прогноз расходов без покупки или аренды Терминалов"]
[null,"OPEX","тыс. руб.",{"$f":"SUM(D21:D22)","v":275.81200000000001},{"$f":"SUM(E21:E22)","v":175.81200000000001},175.81200000000001,175.81200000000001,{"$f":"SUM(H21:H22)","v":175.81200000000001},175.81200000000001,175.81200000000001,175.81200000000001,175.81200000000001,175.81200000000001,175.81200000000001,175.81200000000001,175.81200000000001,175.81200000000001,175.81200000000001,175.81200000000001,175.81200000000001,175.81200000000001,175.81200000000001,175.81200000000001,175.81200000000001,175.81200000000001,175.81200000000001,175.81200000000001,175.81200000000001,175.81200000000001,175.81200000000001,175.81200000000001,175.81200000000001,175.81200000000001,175.81200000000001,175.81200000000001,175.81200000000001,175.81200000000001,175.81200000000001,175.81200000000001]
[null,"   - расходы на оплату труда сотрудников","тыс. руб.",{"$f":"D8*Предпосылки!$F$16/1000","v":175.81200000000001},{"$f":"E8*Предпосылки!$F$16/1000","v":175.81200000000001},{"$f":"F8*Предпосылки!$F$16/1000","v":175.81200000000001},{"$f":"G8*Предпосылки!$F$16/1000","v":175.81200000000001},{"$f":"H8*Предпосылки!$F$16/1000","v":175.81200000000001},{"$f":"I8*Предпосылки!$F$16/1000","v":175.81200000000001},{"$f":"J8*Предпосылки!$F$16/1000","v":175.81200000000001},{"$f":"K8*Предпосылки!$F$16/1000","v":175.81200000000001},{"$f":"L8*Предпосылки!$F$16/1000","v":175.81200000000001},{"$f":"M8*Предпосылки!$F$16/1000","v":175.81200000000001},{"$f":"N8*Предпосылки!$F$16/1000","v":175.81200000000001},{"$f":"O8*Предпосылки!$F$16/1000","v":175.81200000000001},{"$f":"P8*Предпосылки!$F$16/1000","v":175.81200000000001},{"$f":"Q8*Предпосылки!$F$16/1000","v":175.81200000000001},{"$f":"R8*Предпосылки!$F$16/1000","v":175.81200000000001},{"$f":"S8*Предпосылки!$F$16/1000","v":175.81200000000001},{"$f":"T8*Предпосылки!$F$16/1000","v":175.81200000000001},{"$f":"U8*Предпосылки!$F$16/1000","v":175.81200000000001},{"$f":"V8*Предпосылки!$F$16/1000","v":175.81200000000001},{"$f":"W8*Предпосылки!$F$16/1000","v":175.81200000000001},{"$f":"X8*Предпосылки!$F$16/1000","v":175.81200000000001},{"$f":"Y8*Предпосылки!$F$16/1000","v":175.81200000000001},{"$f":"Z8*Предпосылки!$F$16/1000","v":175.81200000000001},{"$f":"AA8*Предпосылки!$F$16/1000","v":175.81200000000001},{"$f":"AB8*Предпосылки!$F$16/1000","v":175.81200000000001},{"$f":"AC8*Предпосылки!$F$16/1000","v":175.81200000000001},{"$f":"AD8*Предпосылки!$F$16/1000","v":175.81200000000001},{"$f":"AE8*Предпосылки!$F$16/1000","v":175.81200000000001},{"$f":"AF8*Предпосылки!$F$16/1000","v":175.81200000000001},{"$f":"AG8*Предпосылки!$F$16/1000","v":175.81200000000001},{"$f":"AH8*Предпосылки!$F$16/1000","v":175.81200000000001},{"$f":"AI8*Предпосылки!$F$16/1000","v":175.81200000000001},{"$f":"AJ8*Предпосылки!$F$16/1000","v":175.81200000000001},{"$f":"AK8*Предпосылки!$F$16/1000","v":175.81200000000001},{"$f":"AL8*Предпосылки!$F$16/1000","v":175.81200000000001},{"$f":"AM8*Предпосылки!$F$16/1000","v":175.81200000000001}]
[null,"   - расходы на разметку блюд","тыс. руб.",{"$f":"IF(Анкета!$E$23=\"7 календарных дней\",'Технический лист'!$C$73/1000,IF(Анкета!$E$23=\"14 календарных дней\",'Технический лист'!$C$74/1000,IF(Анкета!$E$23=\"21 календарных дней\",'Технический лист'!$C$75/1000,IF(Анкета!$E$23=\"30 календарных дней\",'Технический лист'!$C$76/1000,IF(Анкета!$E$23=\"более 30 календарных дней\",'Технический лист'!$C$77/1000, IF(Анкета!$E$23=100,'Технический лист'!$C$82/1000, IF(Анкета!$E$23=200,'Технический лист'!$C$83/1000, IF(Анкета!$E$23=300,'Технический лист'!$C$84/1000, IF(Анкета!$E$23=400,'Технический лист'!$C$85/1000, IF(Анкета!$E$23=500,'Технический лист'!$C$86/1000, IF(Анкета!$E$23=1000,'Технический лист'!$C$87/1000, IF(Анкета!$E$23=1500,'Технический лист'!$C$88/1000, IF(Анкета!$E$23=2000,'Технический лист'!$C$89/1000)))))))))))))","v":100}]
[null,"CAPEX ","тыс. руб.",{"$f":"SUM(D24:D25)","v":0}]
[null,"   - расходы на покупку униформы","тыс. руб.",{"$f":"IF(Анкета!$E$7=\"Стартап\", D8*Предпосылки!$F$31, 0)/1000","v":0}]
[null,"   - расходы на покупку оборудования для кассовых точек","тыс. руб.",{"$f":"IF(Анкета!$E$7=\"Действующая\", 0, Предпосылки!$F$32*D8)/1000","v":0}]
[null,"РАСХОДЫ всего","тыс. руб.",{"$f":"D20+D23","v":275.81200000000001},{"$f":"E20+E23","v":175.81200000000001},{"$f":"F20+F23","v":175.81200000000001},175.81200000000001,175.81200000000001,175.81200000000001,175.81200000000001,175.81200000000001,175.81200000000001,175.81200000000001,175.81200000000001,175.81200000000001,175.81200000000001,175.81200000000001,175.81200000000001,175.81200000000001,175.81200000000001,175.81200000000001,175.81200000000001,175.81200000000001,175.81200000000001,175.81200000000001,175.81200000000001,175.81200000000001,175.81200000000001,175.81200000000001,175.81200000000001,175.81200000000001,175.81200000000001,175.81200000000001,175.81200000000001,175.81200000000001,175.81200000000001,175.81200000000001,175.81200000000001,175.81200000000001]
[]
[null,"Экономический эффект без покупки или аренды терминалов"]
[null,"Свободный денежный поток","тыс. руб.",{"$f":"D26","v":275.81200000000001},{"$f":"E26","v":175.81200000000001},175.81200000000001,175.81200000000001,175.81200000000001,175.81200000000001,175.81200000000001,175.81200000000001,175.81200000000001,175.81200000000001,175.81200000000001,175.81200000000001,175.81200000000001,175.81200000000001,175.81200000000001,175.81200000000001,175.81200000000001,175.81200000000001,175.81200000000001,175.81200000000001,175.81200000000001,175.81200000000001,175.81200000000001,175.81200000000001,175.81200000000001,175.81200000000001,175.81200000000001,175.81200000000001,175.81200000000001,175.81200000000001,175.81200000000001,175.81200000000001,175.81200000000001,175.81200000000001,175.81200000000001,175.81200000000001]
[null,"Свободный денежный поток накопленным итогом","тыс. руб.",{"$f":"D29","v":275.81200000000001},{"$f":"D30+E29","v":451.62400000000002},{"$f":"E30+F29","v":627.43600000000004},803.24800000000005,979.06000000000006,1154.8720000000001,1330.6840000000002,1506.4960000000001,1682.308,1858.12,2033.9319999999998,2209.7439999999997,2385.5559999999996,2561.3679999999995,2737.1799999999994,2912.9919999999993,3088.8039999999992,3264.6159999999991,3440.427999999999,3616.2399999999989,3792.0519999999988,3967.8639999999987,4143.6759999999986,4319.4879999999985,4495.2999999999984,4671.1119999999983,4846.9239999999982,5022.7359999999981,5198.547999999998,5374.3599999999979,5550.1719999999978,5725.9839999999976,5901.7959999999975,6077.6079999999974,6253.4199999999973,6429.2319999999972]
[null,"Дисконтируемый денежный поток (DCF)","тыс. руб.",{"$f":"D29/(1+Предпосылки!$F$51)^D1","v":274.91200961751093},{"$f":"E29/(1+Предпосылки!$F$51)^E1","v":174.66650267722272},{"$f":"F29/(1+Предпосылки!$F$51)^F1","v":174.09655585637188},{"$f":"G29/(1+Предпосылки!$F$51)^G1","v":173.52846880470187},{"$f":"H29/(1+Предпосылки!$F$51)^H1","v":172.96223545367911},{"$f":"I29/(1+Предпосылки!$F$51)^I1","v":172.39784975457201},{"$f":"J29/(1+Предпосылки!$F$51)^J1","v":171.83530567838636},{"$f":"K29/(1+Предпосылки!$F$51)^K1","v":171.27459721580092},{"$f":"L29/(1+Предпосылки!$F$51)^L1","v":170.71571837710314},{"$f":"M29/(1+Предпосылки!$F$51)^M1","v":170.15866319212529},{"$f":"N29/(1+Предпосылки!$F$51)^N1","v":169.60342571018063},{"$f":"O29/(1+Предпосылки!$F$51)^O1","v":169.04999999999993},{"$f":"P29/(1+Предпосылки!$F$51)^P1","v":168.4983801496679},{"$f":"Q29/(1+Предпосылки!$F$51)^Q1","v":167.94856026656021},{"$f":"R29/(1+Предпосылки!$F$51)^R1","v":167.40053447728056},{"$f":"S29/(1+Предпосылки!$F$51)^S1","v":166.85429692759789},{"$f":"T29/(1+Предпосылки!$F$51)^T1","v":166.30984178238367},{"$f":"U29/(1+Предпосылки!$F$51)^U1","v":165.76716322554995},{"$f":"V29/(1+Предпосылки!$F$51)^V1","v":165.22625545998682},{"$f":"W29/(1+Предпосылки!$F$51)^W1","v":164.6871127075008},{"$f":"X29/(1+Предпосылки!$F$51)^X1","v":164.14972920875294},{"$f":"Y29/(1+Предпосылки!$F$51)^Y1","v":163.61409922319729},{"$f":"Z29/(1+Предпосылки!$F$51)^Z1","v":163.08021702901974},{"$f":"AA29/(1+Предпосылки!$F$51)^AA1","v":162.54807692307676},{"$f":"AB29/(1+Предпосылки!$F$51)^AB1","v":162.01767322083441},{"$f":"AC29/(1+Предпосылки!$F$51)^AC1","v":161.4890002563078},{"$f":"AD29/(1+Предпосылки!$F$51)^AD1","v":160.96205238200045},{"$f":"AE29/(1+Предпосылки!$F$51)^AE1","v":160.43682396884404},{"$f":"AF29/(1+Предпосылки!$F$51)^AF1","v":159.91330940613804},{"$f":"AG29/(1+Предпосылки!$F$51)^AG1","v":159.39150310149023},{"$f":"AH29/(1+Предпосылки!$F$51)^AH1","v":158.87139948075645},{"$f":"AI29/(1+Предпосылки!$F$51)^AI1","v":158.35299298798145},{"$f":"AJ29/(1+Предпосылки!$F$51)^AJ1","v":157.83627808533927},{"$f":"AK29/(1+Предпосылки!$F$51)^AK1","v":157.32124925307426},{"$f":"AL29/(1+Предпосылки!$F$51)^AL1","v":156.807900989442},{"$f":"AM29/(1+Предпосылки!$F$51)^AM1","v":156.29622781065063}]
[null,"Накопленный DCF по расходам","тыс. руб.",{"$f":"SUM(D31:AM31)","v":6060.9820106610878}]
[]
["2. ","Прогноз расходов при покупке или аренде Терминалов"]
[null,"OPEX","тыс. руб.",{"$f":"SUM(D36:D39)","v":232.208},{"$f":"SUM(E36:E39)","v":88.603999999999999},88.603999999999999,88.603999999999999,{"$f":"SUM(H36:H39)","v":88.603999999999999},88.603999999999999,88.603999999999999,88.603999999999999,88.603999999999999,88.603999999999999,88.603999999999999,88.603999999999999,88.603999999999999,88.603999999999999,88.603999999999999,88.603999999999999,88.603999999999999,88.603999999999999,88.603999999999999,88.603999999999999,88.603999999999999,88.603999999999999,88.603999999999999,88.603999999999999,88.603999999999999,88.603999999999999,88.603999999999999,88.603999999999999,88.603999999999999,88.603999999999999,88.603999999999999,88.603999999999999,88.603999999999999,88.603999999999999,88.603999999999999,88.603999999999999]
[null,"   - расходы на оплату труда сотрудников","тыс. руб.",{"$f":"IF(Анкета!$E$7=\"Стартап\",D15*Предпосылки!$F$16,D12*Предпосылки!$F$16)/1000","v":117.208},{"$f":"IF(Анкета!$E$7=\"Стартап\",E15*Предпосылки!$F$16,E12*Предпосылки!$F$16)/1000","v":58.603999999999999},{"$f":"IF(Анкета!$E$7=\"Стартап\",F15*Предпосылки!$F$16,F12*Предпосылки!$F$16)/1000","v":58.603999999999999},{"$f":"IF(Анкета!$E$7=\"Стартап\",G15*Предпосылки!$F$16,G12*Предпосылки!$F$16)/1000","v":58.603999999999999},{"$f":"IF(Анкета!$E$7=\"Стартап\",H15*Предпосылки!$F$16,H12*Предпосылки!$F$16)/1000","v":58.603999999999999},{"$f":"IF(Анкета!$E$7=\"Стартап\",I15*Предпосылки!$F$16,I12*Предпосылки!$F$16)/1000","v":58.603999999999999},{"$f":"IF(Анкета!$E$7=\"Стартап\",J15*Предпосылки!$F$16,J12*Предпосылки!$F$16)/1000","v":58.603999999999999},{"$f":"IF(Анкета!$E$7=\"Стартап\",K15*Предпосылки!$F$16,K12*Предпосылки!$F$16)/1000","v":58.603999999999999},{"$f":"IF(Анкета!$E$7=\"Стартап\",L15*Предпосылки!$F$16,L12*Предпосылки!$F$16)/1000","v":58.603999999999999},{"$f":"IF(Анкета!$E$7=\"Стартап\",M15*Предпосылки!$F$16,M12*Предпосылки!$F$16)/1000","v":58.603999999999999},{"$f":"IF(Анкета!$E$7=\"Стартап\",N15*Предпосылки!$F$16,N12*Предпосылки!$F$16)/1000","v":58.603999999999999},{"$f":"IF(Анкета!$E$7=\"Стартап\",O15*Предпосылки!$F$16,O12*Предпосылки!$F$16)/1000","v":58.603999999999999},{"$f":"IF(Анкета!$E$7=\"Стартап\",P15*Предпосылки!$F$16,P12*Предпосылки!$F$16)/1000","v":58.603999999999999},{"$f":"IF(Анкета!$E$7=\"Стартап\",Q15*Предпосылки!$F$16,Q12*Предпосылки!$F$16)/1000","v":58.603999999999999},{"$f":"IF(Анкета!$E$7=\"Стартап\",R15*Предпосылки!$F$16,R12*Предпосылки!$F$16)/1000","v":58.603999999999999},{"$f":"IF(Анкета!$E$7=\"Стартап\",S15*Предпосылки!$F$16,S12*Предпосылки!$F$16)/1000","v":58.603999999999999},{"$f":"IF(Анкета!$E$7=\"Стартап\",T15*Предпосылки!$F$16,T12*Предпосылки!$F$16)/1000","v":58.603999999999999},{"$f":"IF(Анкета!$E$7=\"Стартап\",U15*Предпосылки!$F$16,U12*Предпосылки!$F$16)/1000","v":58.603999999999999},{"$f":"IF(Анкета!$E$7=\"Стартап\",V15*Предпосылки!$F$16,V12*Предпосылки!$F$16)/1000","v":58.603999999999999},{"$f":"IF(Анкета!$E$7=\"Стартап\",W15*Предпосылки!$F$16,W12*Предпосылки!$F$16)/1000","v":58.603999999999999},{"$f":"IF(Анкета!$E$7=\"Стартап\",X15*Предпосылки!$F$16,X12*Предпосылки!$F$16)/1000","v":58.603999999999999},{"$f":"IF(Анкета!$E$7=\"Стартап\",Y15*Предпосылки!$F$16,Y12*Предпосылки!$F$16)/1000","v":58.603999999999999},{"$f":"IF(Анкета!$E$7=\"Стартап\",Z15*Предпосылки!$F$16,Z12*Предпосылки!$F$16)/1000","v":58.603999999999999},{"$f":"IF(Анкета!$E$7=\"Стартап\",AA15*Предпосылки!$F$16,AA12*Предпосылки!$F$16)/1000","v":58.603999999999999},{"$f":"IF(Анкета!$E$7=\"Стартап\",AB15*Предпосылки!$F$16,AB12*Предпосылки!$F$16)/1000","v":58.603999999999999},{"$f":"IF(Анкета!$E$7=\"Стартап\",AC15*Предпосылки!$F$16,AC12*Предпосылки!$F$16)/1000","v":58.603999999999999},{"$f":"IF(Анкета!$E$7=\"Стартап\",AD15*Предпосылки!$F$16,AD12*Предпосылки!$F$16)/1000","v":58.603999999999999},{"$f":"IF(Анкета!$E$7=\"Стартап\",AE15*Предпосылки!$F$16,AE12*Предпосылки!$F$16)/1000","v":58.603999999999999},{"$f":"IF(Анкета!$E$7=\"Стартап\",AF15*Предпосылки!$F$16,AF12*Предпосылки!$F$16)/1000","v":58.603999999999999},{"$f":"IF(Анкета!$E$7=\"Стартап\",AG15*Предпосылки!$F$16,AG12*Предпосылки!$F$16)/1000","v":58.603999999999999},{"$f":"IF(Анкета!$E$7=\"Стартап\",AH15*Предпосылки!$F$16,AH12*Предпосылки!$F$16)/1000","v":58.603999999999999},{"$f":"IF(Анкета!$E$7=\"Стартап\",AI15*Предпосылки!$F$16,AI12*Предпосылки!$F$16)/1000","v":58.603999999999999},{"$f":"IF(Анкета!$E$7=\"Стартап\",AJ15*Предпосылки!$F$16,AJ12*Предпосылки!$F$16)/1000","v":58.603999999999999},{"$f":"IF(Анкета!$E$7=\"Стартап\",AK15*Предпосылки!$F$16,AK12*Предпосылки!$F$16)/1000","v":58.603999999999999},{"$f":"IF(Анкета!$E$7=\"Стартап\",AL15*Предпосылки!$F$16,AL12*Предпосылки!$F$16)/1000","v":58.603999999999999},{"$f":"IF(Анкета!$E$7=\"Стартап\",AM15*Предпосылки!$F$16,AM12*Предпосылки!$F$16)/1000","v":58.603999999999999}]
[null,"   - расходы на ТО и поддержку функционирования терминала","тыс. руб.",{"$f":"IF(Анкета!$E$8=\"Покупка терминалов\", IF(Анкета!$E$7=\"Стартап\", D14*Предпосылки!$F$41, D11*Предпосылки!$F$41)/1000,)","v":15},{"$f":"IF(Анкета!$E$8=\"Покупка терминалов\", IF(Анкета!$E$7=\"Стартап\", E14*Предпосылки!$F$41, E11*Предпосылки!$F$41)/1000,)","v":30},{"$f":"IF(Анкета!$E$8=\"Покупка терминалов\", IF(Анкета!$E$7=\"Стартап\", F14*Предпосылки!$F$41, F11*Предпосылки!$F$41)/1000,)","v":30},{"$f":"IF(Анкета!$E$8=\"Покупка терминалов\", IF(Анкета!$E$7=\"Стартап\", G14*Предпосылки!$F$41, G11*Предпосылки!$F$41)/1000,)","v":30},{"$f":"IF(Анкета!$E$8=\"Покупка терминалов\", IF(Анкета!$E$7=\"Стартап\", H14*Предпосылки!$F$41, H11*Предпосылки!$F$41)/1000,)","v":30},{"$f":"IF(Анкета!$E$8=\"Покупка терминалов\", IF(Анкета!$E$7=\"Стартап\", I14*Предпосылки!$F$41, I11*Предпосылки!$F$41)/1000,)","v":30},{"$f":"IF(Анкета!$E$8=\"Покупка терминалов\", IF(Анкета!$E$7=\"Стартап\", J14*Предпосылки!$F$41, J11*Предпосылки!$F$41)/1000,)","v":30},{"$f":"IF(Анкета!$E$8=\"Покупка терминалов\", IF(Анкета!$E$7=\"Стартап\", K14*Предпосылки!$F$41, K11*Предпосылки!$F$41)/1000,)","v":30},{"$f":"IF(Анкета!$E$8=\"Покупка терминалов\", IF(Анкета!$E$7=\"Стартап\", L14*Предпосылки!$F$41, L11*Предпосылки!$F$41)/1000,)","v":30},{"$f":"IF(Анкета!$E$8=\"Покупка терминалов\", IF(Анкета!$E$7=\"Стартап\", M14*Предпосылки!$F$41, M11*Предпосылки!$F$41)/1000,)","v":30},{"$f":"IF(Анкета!$E$8=\"Покупка терминалов\", IF(Анкета!$E$7=\"Стартап\", N14*Предпосылки!$F$41, N11*Предпосылки!$F$41)/1000,)","v":30},{"$f":"IF(Анкета!$E$8=\"Покупка терминалов\", IF(Анкета!$E$7=\"Стартап\", O14*Предпосылки!$F$41, O11*Предпосылки!$F$41)/1000,)","v":30},{"$f":"IF(Анкета!$E$8=\"Покупка терминалов\", IF(Анкета!$E$7=\"Стартап\", P14*Предпосылки!$F$41, P11*Предпосылки!$F$41)/1000,)","v":30},{"$f":"IF(Анкета!$E$8=\"Покупка терминалов\", IF(Анкета!$E$7=\"Стартап\", Q14*Предпосылки!$F$41, Q11*Предпосылки!$F$41)/1000,)","v":30},{"$f":"IF(Анкета!$E$8=\"Покупка терминалов\", IF(Анкета!$E$7=\"Стартап\", R14*Предпосылки!$F$41, R11*Предпосылки!$F$41)/1000,)","v":30},{"$f":"IF(Анкета!$E$8=\"Покупка терминалов\", IF(Анкета!$E$7=\"Стартап\", S14*Предпосылки!$F$41, S11*Предпосылки!$F$41)/1000,)","v":30},{"$f":"IF(Анкета!$E$8=\"Покупка терминалов\", IF(Анкета!$E$7=\"Стартап\", T14*Предпосылки!$F$41, T11*Предпосылки!$F$41)/1000,)","v":30},{"$f":"IF(Анкета!$E$8=\"Покупка терминалов\", IF(Анкета!$E$7=\"Стартап\", U14*Предпосылки!$F$41, U11*Предпосылки!$F$41)/1000,)","v":30},{"$f":"IF(Анкета!$E$8=\"Покупка терминалов\", IF(Анкета!$E$7=\"Стартап\", V14*Предпосылки!$F$41, V11*Предпосылки!$F$41)/1000,)","v":30},{"$f":"IF(Анкета!$E$8=\"Покупка терминалов\", IF(Анкета!$E$7=\"Стартап\", W14*Предпосылки!$F$41, W11*Предпосылки!$F$41)/1000,)","v":30},{"$f":"IF(Анкета!$E$8=\"Покупка терминалов\", IF(Анкета!$E$7=\"Стартап\", X14*Предпосылки!$F$41, X11*Предпосылки!$F$41)/1000,)","v":30},{"$f":"IF(Анкета!$E$8=\"Покупка терминалов\", IF(Анкета!$E$7=\"Стартап\", Y14*Предпосылки!$F$41, Y11*Предпосылки!$F$41)/1000,)","v":30},{"$f":"IF(Анкета!$E$8=\"Покупка терминалов\", IF(Анкета!$E$7=\"Стартап\", Z14*Предпосылки!$F$41, Z11*Предпосылки!$F$41)/1000,)","v":30},{"$f":"IF(Анкета!$E$8=\"Покупка терминалов\", IF(Анкета!$E$7=\"Стартап\", AA14*Предпосылки!$F$41, AA11*Предпосылки!$F$41)/1000,)","v":30},{"$f":"IF(Анкета!$E$8=\"Покупка терминалов\", IF(Анкета!$E$7=\"Стартап\", AB14*Предпосылки!$F$41, AB11*Предпосылки!$F$41)/1000,)","v":30},{"$f":"IF(Анкета!$E$8=\"Покупка терминалов\", IF(Анкета!$E$7=\"Стартап\", AC14*Предпосылки!$F$41, AC11*Предпосылки!$F$41)/1000,)","v":30},{"$f":"IF(Анкета!$E$8=\"Покупка терминалов\", IF(Анкета!$E$7=\"Стартап\", AD14*Предпосылки!$F$41, AD11*Предпосылки!$F$41)/1000,)","v":30},{"$f":"IF(Анкета!$E$8=\"Покупка терминалов\", IF(Анкета!$E$7=\"Стартап\", AE14*Предпосылки!$F$41, AE11*Предпосылки!$F$41)/1000,)","v":30},{"$f":"IF(Анкета!$E$8=\"Покупка терминалов\", IF(Анкета!$E$7=\"Стартап\", AF14*Предпосылки!$F$41, AF11*Предпосылки!$F$41)/1000,)","v":30},{"$f":"IF(Анкета!$E$8=\"Покупка терминалов\", IF(Анкета!$E$7=\"Стартап\", AG14*Предпосылки!$F$41, AG11*Предпосылки!$F$41)/1000,)","v":30},{"$f":"IF(Анкета!$E$8=\"Покупка терминалов\", IF(Анкета!$E$7=\"Стартап\", AH14*Предпосылки!$F$41, AH11*Предпосылки!$F$41)/1000,)","v":30},{"$f":"IF(Анкета!$E$8=\"Покупка терминалов\", IF(Анкета!$E$7=\"Стартап\", AI14*Предпосылки!$F$41, AI11*Предпосылки!$F$41)/1000,)","v":30},{"$f":"IF(Анкета!$E$8=\"Покупка терминалов\", IF(Анкета!$E$7=\"Стартап\", AJ14*Предпосылки!$F$41, AJ11*Предпосылки!$F$41)/1000,)","v":30},{"$f":"IF(Анкета!$E$8=\"Покупка терминалов\", IF(Анкета!$E$7=\"Стартап\", AK14*Предпосылки!$F$41, AK11*Предпосылки!$F$41)/1000,)","v":30},{"$f":"IF(Анкета!$E$8=\"Покупка терминалов\", IF(Анкета!$E$7=\"Стартап\", AL14*Предпосылки!$F$41, AL11*Предпосылки!$F$41)/1000,)","v":30},{"$f":"IF(Анкета!$E$8=\"Покупка терминалов\", IF(Анкета!$E$7=\"Стартап\", AM14*Предпосылки!$F$41, AM11*Предпосылки!$F$41)/1000,)","v":30}]
[null,"   - расходы на аренду терминала","тыс. руб.",{"$f":"IF(Анкета!$E$8=\"Аренда терминалов\",  IF(Анкета!$E$7=\"Стартап\",D14*Предпосылки!$F$42/1000,D11*Предпосылки!$F$42/1000), 0)","v":0},{"$f":"IF(Анкета!$E$8=\"Аренда терминалов\",  IF(Анкета!$E$7=\"Стартап\",E14*Предпосылки!$F$42/1000,E11*Предпосылки!$F$42/1000), 0)","v":0},{"$f":"IF(Анкета!$E$8=\"Аренда терминалов\",  IF(Анкета!$E$7=\"Стартап\",F14*Предпосылки!$F$42/1000,F11*Предпосылки!$F$42/1000), 0)","v":0},{"$f":"IF(Анкета!$E$8=\"Аренда терминалов\",  IF(Анкета!$E$7=\"Стартап\",G14*Предпосылки!$F$42/1000,G11*Предпосылки!$F$42/1000), 0)","v":0},{"$f":"IF(Анкета!$E$8=\"Аренда терминалов\",  IF(Анкета!$E$7=\"Стартап\",H14*Предпосылки!$F$42/1000,H11*Предпосылки!$F$42/1000), 0)","v":0},{"$f":"IF(Анкета!$E$8=\"Аренда терминалов\",  IF(Анкета!$E$7=\"Стартап\",I14*Предпосылки!$F$42/1000,I11*Предпосылки!$F$42/1000), 0)","v":0},{"$f":"IF(Анкета!$E$8=\"Аренда терминалов\",  IF(Анкета!$E$7=\"Стартап\",J14*Предпосылки!$F$42/1000,J11*Предпосылки!$F$42/1000), 0)","v":0},{"$f":"IF(Анкета!$E$8=\"Аренда терминалов\",  IF(Анкета!$E$7=\"Стартап\",K14*Предпосылки!$F$42/1000,K11*Предпосылки!$F$42/1000), 0)","v":0},{"$f":"IF(Анкета!$E$8=\"Аренда терминалов\",  IF(Анкета!$E$7=\"Стартап\",L14*Предпосылки!$F$42/1000,L11*Предпосылки!$F$42/1000), 0)","v":0},{"$f":"IF(Анкета!$E$8=\"Аренда терминалов\",  IF(Анкета!$E$7=\"Стартап\",M14*Предпосылки!$F$42/1000,M11*Предпосылки!$F$42/1000), 0)","v":0},{"$f":"IF(Анкета!$E$8=\"Аренда терминалов\",  IF(Анкета!$E$7=\"Стартап\",N14*Предпосылки!$F$42/1000,N11*Предпосылки!$F$42/1000), 0)","v":0},{"$f":"IF(Анкета!$E$8=\"Аренда терминалов\",  IF(Анкета!$E$7=\"Стартап\",O14*Предпосылки!$F$42/1000,O11*Предпосылки!$F$42/1000), 0)","v":0},{"$f":"IF(Анкета!$E$8=\"Аренда терминалов\",  IF(Анкета!$E$7=\"Стартап\",P14*Предпосылки!$F$42/1000,P11*Предпосылки!$F$42/1000), 0)","v":0},{"$f":"IF(Анкета!$E$8=\"Аренда терминалов\",  IF(Анкета!$E$7=\"Стартап\",Q14*Предпосылки!$F$42/1000,Q11*Предпосылки!$F$42/1000), 0)","v":0},{"$f":"IF(Анкета!$E$8=\"Аренда терминалов\",  IF(Анкета!$E$7=\"Стартап\",R14*Предпосылки!$F$42/1000,R11*Предпосылки!$F$42/1000), 0)","v":0},{"$f":"IF(Анкета!$E$8=\"Аренда терминалов\",  IF(Анкета!$E$7=\"Стартап\",S14*Предпосылки!$F$42/1000,S11*Предпосылки!$F$42/1000), 0)","v":0},{"$f":"IF(Анкета!$E$8=\"Аренда терминалов\",  IF(Анкета!$E$7=\"Стартап\",T14*Предпосылки!$F$42/1000,T11*Предпосылки!$F$42/1000), 0)","v":0},{"$f":"IF(Анкета!$E$8=\"Аренда терминалов\",  IF(Анкета!$E$7=\"Стартап\",U14*Предпосылки!$F$42/1000,U11*Предпосылки!$F$42/1000), 0)","v":0},{"$f":"IF(Анкета!$E$8=\"Аренда терминалов\",  IF(Анкета!$E$7=\"Стартап\",V14*Предпосылки!$F$42/1000,V11*Предпосылки!$F$42/1000), 0)","v":0},{"$f":"IF(Анкета!$E$8=\"Аренда терминалов\",  IF(Анкета!$E$7=\"Стартап\",W14*Предпосылки!$F$42/1000,W11*Предпосылки!$F$42/1000), 0)","v":0},{"$f":"IF(Анкета!$E$8=\"Аренда терминалов\",  IF(Анкета!$E$7=\"Стартап\",X14*Предпосылки!$F$42/1000,X11*Предпосылки!$F$42/1000), 0)","v":0},{"$f":"IF(Анкета!$E$8=\"Аренда терминалов\",  IF(Анкета!$E$7=\"Стартап\",Y14*Предпосылки!$F$42/1000,Y11*Предпосылки!$F$42/1000), 0)","v":0},{"$f":"IF(Анкета!$E$8=\"Аренда терминалов\",  IF(Анкета!$E$7=\"Стартап\",Z14*Предпосылки!$F$42/1000,Z11*Предпосылки!$F$42/1000), 0)","v":0},{"$f":"IF(Анкета!$E$8=\"Аренда терминалов\",  IF(Анкета!$E$7=\"Стартап\",AA14*Предпосылки!$F$42/1000,AA11*Предпосылки!$F$42/1000), 0)","v":0},{"$f":"IF(Анкета!$E$8=\"Аренда терминалов\",  IF(Анкета!$E$7=\"Стартап\",AB14*Предпосылки!$F$42/1000,AB11*Предпосылки!$F$42/1000), 0)","v":0},{"$f":"IF(Анкета!$E$8=\"Аренда терминалов\",  IF(Анкета!$E$7=\"Стартап\",AC14*Предпосылки!$F$42/1000,AC11*Предпосылки!$F$42/1000), 0)","v":0},{"$f":"IF(Анкета!$E$8=\"Аренда терминалов\",  IF(Анкета!$E$7=\"Стартап\",AD14*Предпосылки!$F$42/1000,AD11*Предпосылки!$F$42/1000), 0)","v":0},{"$f":"IF(Анкета!$E$8=\"Аренда терминалов\",  IF(Анкета!$E$7=\"Стартап\",AE14*Предпосылки!$F$42/1000,AE11*Предпосылки!$F$42/1000), 0)","v":0},{"$f":"IF(Анкета!$E$8=\"Аренда терминалов\",  IF(Анкета!$E$7=\"Стартап\",AF14*Предпосылки!$F$42/1000,AF11*Предпосылки!$F$42/1000), 0)","v":0},{"$f":"IF(Анкета!$E$8=\"Аренда терминалов\",  IF(Анкета!$E$7=\"Стартап\",AG14*Предпосылки!$F$42/1000,AG11*Предпосылки!$F$42/1000), 0)","v":0},{"$f":"IF(Анкета!$E$8=\"Аренда терминалов\",  IF(Анкета!$E$7=\"Стартап\",AH14*Предпосылки!$F$42/1000,AH11*Предпосылки!$F$42/1000), 0)","v":0},{"$f":"IF(Анкета!$E$8=\"Аренда терминалов\",  IF(Анкета!$E$7=\"Стартап\",AI14*Предпосылки!$F$42/1000,AI11*Предпосылки!$F$42/1000), 0)","v":0},{"$f":"IF(Анкета!$E$8=\"Аренда терминалов\",  IF(Анкета!$E$7=\"Стартап\",AJ14*Предпосылки!$F$42/1000,AJ11*Предпосылки!$F$42/1000), 0)","v":0},{"$f":"IF(Анкета!$E$8=\"Аренда терминалов\",  IF(Анкета!$E$7=\"Стартап\",AK14*Предпосылки!$F$42/1000,AK11*Предпосылки!$F$42/1000), 0)","v":0},{"$f":"IF(Анкета!$E$8=\"Аренда терминалов\",  IF(Анкета!$E$7=\"Стартап\",AL14*Предпосылки!$F$42/1000,AL11*Предпосылки!$F$42/1000), 0)","v":0},{"$f":"IF(Анкета!$E$8=\"Аренда терминалов\",  IF(Анкета!$E$7=\"Стартап\",AM14*Предпосылки!$F$42/1000,AM11*Предпосылки!$F$42/1000), 0)","v":0}]
[null,"   - расходы на разметку блюд","тыс. руб.",{"$f":"IF(Анкета!$E$23=\"7 календарных дней\",'Технический лист'!$C$73/1000,IF(Анкета!$E$23=\"14 календарных дней\",'Технический лист'!$C$74/1000,IF(Анкета!$E$23=\"21 календарных дней\",'Технический лист'!$C$75/1000,IF(Анкета!$E$23=\"30 календарных дней\",'Технический лист'!$C$76/1000,IF(Анкета!$E$23=\"более 30 календарных дней\",'Технический лист'!$C$77/1000, IF(Анкета!$E$23=100,'Технический лист'!$C$82/1000, IF(Анкета!$E$23=200,'Технический лист'!$C$83/1000, IF(Анкета!$E$23=300,'Технический лист'!$C$84/1000, IF(Анкета!$E$23=400,'Технический лист'!$C$85/1000, IF(Анкета!$E$23=500,'Технический лист'!$C$86/1000, IF(Анкета!$E$23=1000,'Технический лист'!$C$87/1000, IF(Анкета!$E$23=1500,'Технический лист'!$C$88/1000, IF(Анкета!$E$23=2000,'Технический лист'!$C$89/1000)))))))))))))","v":100}]
[null,"CAPEX","тыс. руб.",{"$f":"SUM(D41:D43)","v":500},{"$f":"SUM(E41:E43)","v":500},0,0,0,0,0,0,0,0,0,0,0,0,0,0,0,0,0,0,0,0,0,0,0,0,0,0,0,0,0,0,0,0,0,0]
[null,"   - покупка терминалов","тыс. руб.",{"$f":"IF(Анкета!$E$8=\"Покупка терминалов\", IF(Анкета!$E$7=\"Стартап\",Предпосылки!$F$45*D14/1000,IF(OR(D11>C11,D11>D7),Предпосылки!$F$45*D11/1000,0)+IF(AND(D12=0,C12>0),Предпосылки!$F$46/1000,0)), 0)","v":500},{"$f":"IF(Анкета!$E$8=\"Покупка терминалов\", IF(Анкета!$E$7=\"Стартап\",Предпосылки!$F$45*(E14-D14)/1000,IF(E11>D11,Предпосылки!$F$45*(E11-D11)/1000,0)+IF(AND(E12=0,D12>0),Предпосылки!$F$46/1000,0)),0)","v":500},{"$f":"IF(Анкета!$E$8=\"Покупка терминалов\", IF(Анкета!$E$7=\"Стартап\",Предпосылки!$F$45*(F14-E14)/1000,IF(F11>E11,Предпосылки!$F$45*(F11-E11)/1000,0)+IF(AND(F12=0,E12>0),Предпосылки!$F$46/1000,0)),0)","v":0},{"$f":"IF(Анкета!$E$8=\"Покупка терминалов\", IF(Анкета!$E$7=\"Стартап\",Предпосылки!$F$45*(G14-F14)/1000,IF(G11>F11,Предпосылки!$F$45*(G11-F11)/1000,0)+IF(AND(G12=0,F12>0),Предпосылки!$F$46/1000,0)),0)","v":0},{"$f":"IF(Анкета!$E$8=\"Покупка терминалов\", IF(Анкета!$E$7=\"Стартап\",Предпосылки!$F$45*(H14-G14)/1000,IF(H11>G11,Предпосылки!$F$45*(H11-G11)/1000,0)+IF(AND(H12=0,G12>0),Предпосылки!$F$46/1000,0)),0)","v":0},{"$f":"IF(Анкета!$E$8=\"Покупка терминалов\", IF(Анкета!$E$7=\"Стартап\",Предпосылки!$F$45*(I14-H14)/1000,IF(I11>H11,Предпосылки!$F$45*(I11-H11)/1000,0)+IF(AND(I12=0,H12>0),Предпосылки!$F$46/1000,0)),0)","v":0},{"$f":"IF(Анкета!$E$8=\"Покупка терминалов\", IF(Анкета!$E$7=\"Стартап\",Предпосылки!$F$45*(J14-I14)/1000,IF(J11>I11,Предпосылки!$F$45*(J11-I11)/1000,0)+IF(AND(J12=0,I12>0),Предпосылки!$F$46/1000,0)),0)","v":0},{"$f":"IF(Анкета!$E$8=\"Покупка терминалов\", IF(Анкета!$E$7=\"Стартап\",Предпосылки!$F$45*(K14-J14)/1000,IF(K11>J11,Предпосылки!$F$45*(K11-J11)/1000,0)+IF(AND(K12=0,J12>0),Предпосылки!$F$46/1000,0)),0)","v":0},{"$f":"IF(Анкета!$E$8=\"Покупка терминалов\", IF(Анкета!$E$7=\"Стартап\",Предпосылки!$F$45*(L14-K14)/1000,IF(L11>K11,Предпосылки!$F$45*(L11-K11)/1000,0)+IF(AND(L12=0,K12>0),Предпосылки!$F$46/1000,0)),0)","v":0},{"$f":"IF(Анкета!$E$8=\"Покупка терминалов\", IF(Анкета!$E$7=\"Стартап\",Предпосылки!$F$45*(M14-L14)/1000,IF(M11>L11,Предпосылки!$F$45*(M11-L11)/1000,0)+IF(AND(M12=0,L12>0),Предпосылки!$F$46/1000,0)),0)","v":0},{"$f":"IF(Анкета!$E$8=\"Покупка терминалов\", IF(Анкета!$E$7=\"Стартап\",Предпосылки!$F$45*(N14-M14)/1000,IF(N11>M11,Предпосылки!$F$45*(N11-M11)/1000,0)+IF(AND(N12=0,M12>0),Предпосылки!$F$46/1000,0)),0)","v":0},{"$f":"IF(Анкета!$E$8=\"Покупка терминалов\", IF(Анкета!$E$7=\"Стартап\",Предпосылки!$F$45*(O14-N14)/1000,IF(O11>N11,Предпосылки!$F$45*(O11-N11)/1000,0)+IF(AND(O12=0,N12>0),Предпосылки!$F$46/1000,0)),0)","v":0},{"$f":"IF(Анкета!$E$8=\"Покупка терминалов\", IF(Анкета!$E$7=\"Стартап\",Предпосылки!$F$45*(P14-O14)/1000,IF(P11>O11,Предпосылки!$F$45*(P11-O11)/1000,0)+IF(AND(P12=0,O12>0),Предпосылки!$F$46/1000,0)),0)","v":0},{"$f":"IF(Анкета!$E$8=\"Покупка терминалов\", IF(Анкета!$E$7=\"Стартап\",Предпосылки!$F$45*(Q14-P14)/1000,IF(Q11>P11,Предпосылки!$F$45*(Q11-P11)/1000,0)+IF(AND(Q12=0,P12>0),Предпосылки!$F$46/1000,0)),0)","v":0},{"$f":"IF(Анкета!$E$8=\"Покупка терминалов\", IF(Анкета!$E$7=\"Стартап\",Предпосылки!$F$45*(R14-Q14)/1000,IF(R11>Q11,Предпосылки!$F$45*(R11-Q11)/1000,0)+IF(AND(R12=0,Q12>0),Предпосылки!$F$46/1000,0)),0)","v":0},{"$f":"IF(Анкета!$E$8=\"Покупка терминалов\", IF(Анкета!$E$7=\"Стартап\",Предпосылки!$F$45*(S14-R14)/1000,IF(S11>R11,Предпосылки!$F$45*(S11-R11)/1000,0)+IF(AND(S12=0,R12>0),Предпосылки!$F$46/1000,0)),0)","v":0},{"$f":"IF(Анкета!$E$8=\"Покупка терминалов\", IF(Анкета!$E$7=\"Стартап\",Предпосылки!$F$45*(T14-S14)/1000,IF(T11>S11,Предпосылки!$F$45*(T11-S11)/1000,0)+IF(AND(T12=0,S12>0),Предпосылки!$F$46/1000,0)),0)","v":0},{"$f":"IF(Анкета!$E$8=\"Покупка терминалов\", IF(Анкета!$E$7=\"Стартап\",Предпосылки!$F$45*(U14-T14)/1000,IF(U11>T11,Предпосылки!$F$45*(U11-T11)/1000,0)+IF(AND(U12=0,T12>0),Предпосылки!$F$46/1000,0)),0)","v":0},{"$f":"IF(Анкета!$E$8=\"Покупка терминалов\", IF(Анкета!$E$7=\"Стартап\",Предпосылки!$F$45*(V14-U14)/1000,IF(V11>U11,Предпосылки!$F$45*(V11-U11)/1000,0)+IF(AND(V12=0,U12>0),Предпосылки!$F$46/1000,0)),0)","v":0},{"$f":"IF(Анкета!$E$8=\"Покупка терминалов\", IF(Анкета!$E$7=\"Стартап\",Предпосылки!$F$45*(W14-V14)/1000,IF(W11>V11,Предпосылки!$F$45*(W11-V11)/1000,0)+IF(AND(W12=0,V12>0),Предпосылки!$F$46/1000,0)),0)","v":0},{"$f":"IF(Анкета!$E$8=\"Покупка терминалов\", IF(Анкета!$E$7=\"Стартап\",Предпосылки!$F$45*(X14-W14)/1000,IF(X11>W11,Предпосылки!$F$45*(X11-W11)/1000,0)+IF(AND(X12=0,W12>0),Предпосылки!$F$46/1000,0)),0)","v":0},{"$f":"IF(Анкета!$E$8=\"Покупка терминалов\", IF(Анкета!$E$7=\"Стартап\",Предпосылки!$F$45*(Y14-X14)/1000,IF(Y11>X11,Предпосылки!$F$45*(Y11-X11)/1000,0)+IF(AND(Y12=0,X12>0),Предпосылки!$F$46/1000,0)),0)","v":0},{"$f":"IF(Анкета!$E$8=\"Покупка терминалов\", IF(Анкета!$E$7=\"Стартап\",Предпосылки!$F$45*(Z14-Y14)/1000,IF(Z11>Y11,Предпосылки!$F$45*(Z11-Y11)/1000,0)+IF(AND(Z12=0,Y12>0),Предпосылки!$F$46/1000,0)),0)","v":0},{"$f":"IF(Анкета!$E$8=\"Покупка терминалов\", IF(Анкета!$E$7=\"Стартап\",Предпосылки!$F$45*(AA14-Z14)/1000,IF(AA11>Z11,Предпосылки!$F$45*(AA11-Z11)/1000,0)+IF(AND(AA12=0,Z12>0),Предпосылки!$F$46/1000,0)),0)","v":0},{"$f":"IF(Анкета!$E$8=\"Покупка терминалов\", IF(Анкета!$E$7=\"Стартап\",Предпосылки!$F$45*(AB14-AA14)/1000,IF(AB11>AA11,Предпосылки!$F$45*(AB11-AA11)/1000,0)+IF(AND(AB12=0,AA12>0),Предпосылки!$F$46/1000,0)),0)","v":0},{"$f":"IF(Анкета!$E$8=\"Покупка терминалов\", IF(Анкета!$E$7=\"Стартап\",Предпосылки!$F$45*(AC14-AB14)/1000,IF(AC11>AB11,Предпосылки!$F$45*(AC11-AB11)/1000,0)+IF(AND(AC12=0,AB12>0),Предпосылки!$F$46/1000,0)),0)","v":0},{"$f":"IF(Анкета!$E$8=\"Покупка терминалов\", IF(Анкета!$E$7=\"Стартап\",Предпосылки!$F$45*(AD14-AC14)/1000,IF(AD11>AC11,Предпосылки!$F$45*(AD11-AC11)/1000,0)+IF(AND(AD12=0,AC12>0),Предпосылки!$F$46/1000,0)),0)","v":0},{"$f":"IF(Анкета!$E$8=\"Покупка терминалов\", IF(Анкета!$E$7=\"Стартап\",Предпосылки!$F$45*(AE14-AD14)/1000,IF(AE11>AD11,Предпосылки!$F$45*(AE11-AD11)/1000,0)+IF(AND(AE12=0,AD12>0),Предпосылки!$F$46/1000,0)),0)","v":0},{"$f":"IF(Анкета!$E$8=\"Покупка терминалов\", IF(Анкета!$E$7=\"Стартап\",Предпосылки!$F$45*(AF14-AE14)/1000,IF(AF11>AE11,Предпосылки!$F$45*(AF11-AE11)/1000,0)+IF(AND(AF12=0,AE12>0),Предпосылки!$F$46/1000,0)),0)","v":0},{"$f":"IF(Анкета!$E$8=\"Покупка терминалов\", IF(Анкета!$E$7=\"Стартап\",Предпосылки!$F$45*(AG14-AF14)/1000,IF(AG11>AF11,Предпосылки!$F$45*(AG11-AF11)/1000,0)+IF(AND(AG12=0,AF12>0),Предпосылки!$F$46/1000,0)),0)","v":0},{"$f":"IF(Анкета!$E$8=\"Покупка терминалов\", IF(Анкета!$E$7=\"Стартап\",Предпосылки!$F$45*(AH14-AG14)/1000,IF(AH11>AG11,Предпосылки!$F$45*(AH11-AG11)/1000,0)+IF(AND(AH12=0,AG12>0),Предпосылки!$F$46/1000,0)),0)","v":0},{"$f":"IF(Анкета!$E$8=\"Покупка терминалов\", IF(Анкета!$E$7=\"Стартап\",Предпосылки!$F$45*(AI14-AH14)/1000,IF(AI11>AH11,Предпосылки!$F$45*(AI11-AH11)/1000,0)+IF(AND(AI12=0,AH12>0),Предпосылки!$F$46/1000,0)),0)","v":0},{"$f":"IF(Анкета!$E$8=\"Покупка терминалов\", IF(Анкета!$E$7=\"Стартап\",Предпосылки!$F$45*(AJ14-AI14)/1000,IF(AJ11>AI11,Предпосылки!$F$45*(AJ11-AI11)/1000,0)+IF(AND(AJ12=0,AI12>0),Предпосылки!$F$46/1000,0)),0)","v":0},{"$f":"IF(Анкета!$E$8=\"Покупка терминалов\", IF(Анкета!$E$7=\"Стартап\",Предпосылки!$F$45*(AK14-AJ14)/1000,IF(AK11>AJ11,Предпосылки!$F$45*(AK11-AJ11)/1000,0)+IF(AND(AK12=0,AJ12>0),Предпосылки!$F$46/1000,0)),0)","v":0},{"$f":"IF(Анкета!$E$8=\"Покупка терминалов\", IF(Анкета!$E$7=\"Стартап\",Предпосылки!$F$45*(AL14-AK14)/1000,IF(AL11>AK11,Предпосылки!$F$45*(AL11-AK11)/1000,0)+IF(AND(AL12=0,AK12>0),Предпосылки!$F$46/1000,0)),0)","v":0},{"$f":"IF(Анкета!$E$8=\"Покупка терминалов\", IF(Анкета!$E$7=\"Стартап\",Предпосылки!$F$45*(AM14-AL14)/1000,IF(AM11>AL11,Предпосылки!$F$45*(AM11-AL11)/1000,0)+IF(AND(AM12=0,AL12>0),Предпосылки!$F$46/1000,0)),0)","v":0}]
[null,"   - расходы на покупку униформы","тыс. руб.",{"$f":"IF(Анкета!$E$7=\"Стартап\",$D$15*Предпосылки!F31,0)/1000","v":0}]
[null,"   - покупка кассовых аппаратов","тыс. руб.",{"$f":"IF(Анкета!$E$7=\"Стартап\", $D$15*Предпосылки!$F$32, 0)/1000","v":0}]
[null,"РАСХОДЫ всего","тыс. руб.",{"$f":"D35+D40","v":732.20799999999997},{"$f":"E35+E40","v":588.60400000000004},88.603999999999999,88.603999999999999,88.603999999999999,88.603999999999999,88.603999999999999,88.603999999999999,88.603999999999999,88.603999999999999,88.603999999999999,88.603999999999999,88.603999999999999,88.603999999999999,88.603999999999999,88.603999999999999,88.603999999999999,88.603999999999999,88.603999999999999,88.603999999999999,88.603999999999999,88.603999999999999,88.603999999999999,88.603999999999999,88.603999999999999,88.603999999999999,88.603999999999999,88.603999999999999,88.603999999999999,88.603999999999999,88.603999999999999,88.603999999999999,88.603999999999999,88.603999999999999,88.603999999999999,88.603999999999999]
[]
[null,"Экономический эффект при покупке или аренде Терминалов"]
[null,"Свободный денежный поток","тыс. руб.",{"$f":"D44","v":732.20799999999997},{"$f":"E44","v":588.60400000000004},88.603999999999999,88.603999999999999,88.603999999999999,88.603999999999999,88.603999999999999,88.603999999999999,88.603999999999999,88.603999999999999,88.603999999999999,88.603999999999999,88.603999999999999,88.603999999999999,88.603999999999999,88.603999999999999,88.603999999999999,88.603999999999999,88.603999999999999,88.603999999999999,88.603999999999999,88.603999999999999,88.603999999999999,88.603999999999999,88.603999999999999,88.603999999999999,88.603999999999999,88.603999999999999,88.603999999999999,88.603999999999999,88.603999999999999,88.603999999999999,88.603999999999999,88.603999999999999,88.603999999999999,88.603999999999999]
[null,"Свободный денежный поток накопленным итогом","тыс. руб.",{"$f":"D47","v":732.20799999999997},{"$f":"D48+E47","v":1320.8119999999999},{"$f":"E48+F47","v":1409.4159999999999},1498.02,1586.624,1675.2280000000001,1763.8320000000001,1852.4360000000001,1941.0400000000002,2029.6440000000002,2118.248,2206.8519999999999,2295.4559999999997,2384.0599999999995,2472.6639999999993,2561.2679999999991,2649.8719999999989,2738.4759999999987,2827.0799999999986,2915.6839999999984,3004.2879999999982,3092.891999999998,3181.4959999999978,3270.0999999999976,3358.7039999999974,3447.3079999999973,3535.9119999999971,3624.5159999999969,3713.1199999999967,3801.7239999999965,3890.3279999999963,3978.9319999999962,4067.535999999996,4156.1399999999958,4244.743999999996,4333.3479999999963]
[null,"Дисконтируемый денежный поток (DCF)","тыс. руб.",{"$f":"D47/(1+Предпосылки!$F$51)^D1","v":729.81876328085218},{"$f":"E47/(1+Предпосылки!$F$51)^E1","v":584.76896993279183},{"$f":"F47/(1+Предпосылки!$F$51)^F1","v":87.739467357734242},{"$f":"G47/(1+Предпосылки!$F$51)^G1","v":87.453168441129179},{"$f":"H47/(1+Предпосылки!$F$51)^H1","v":87.167803734317246},{"$f":"I47/(1+Предпосылки!$F$51)^I1","v":86.883370188918263},{"$f":"J47/(1+Предпосылки!$F$51)^J1","v":86.599864766499124},{"$f":"K47/(1+Предпосылки!$F$51)^K1","v":86.317284438541307},{"$f":"L47/(1+Предпосылки!$F$51)^L1","v":86.035626186408464},{"$f":"M47/(1+Предпосылки!$F$51)^M1","v":85.754887001314302},{"$f":"N47/(1+Предпосылки!$F$51)^N1","v":85.475063884290293},{"$f":"O47/(1+Предпосылки!$F$51)^O1","v":85.196153846153805},{"$f":"P47/(1+Предпосылки!$F$51)^P1","v":84.918153907476011},{"$f":"Q47/(1+Предпосылки!$F$51)^Q1","v":84.641061098550153},{"$f":"R47/(1+Предпосылки!$F$51)^R1","v":84.364872459359802},{"$f":"S47/(1+Предпосылки!$F$51)^S1","v":84.089585039547245},{"$f":"T47/(1+Предпосылки!$F$51)^T1","v":83.815195898381916},{"$f":"U47/(1+Предпосылки!$F$51)^U1","v":83.541702104729069},{"$f":"V47/(1+Предпосылки!$F$51)^V1","v":83.269100737018363},{"$f":"W47/(1+Предпосылки!$F$51)^W1","v":82.99738888321275},{"$f":"X47/(1+Предпосылки!$F$51)^X1","v":82.726563640777329},{"$f":"Y47/(1+Предпосылки!$F$51)^Y1","v":82.456622116648305},{"$f":"Z47/(1+Предпосылки!$F$51)^Z1","v":82.187561427202155},{"$f":"AA47/(1+Предпосылки!$F$51)^AA1","v":81.919378698224762},{"$f":"AB47/(1+Предпосылки!$F$51)^AB1","v":81.652071064880744},{"$f":"AC47/(1+Предпосылки!$F$51)^AC1","v":81.385635671682806},{"$f":"AD47/(1+Предпосылки!$F$51)^AD1","v":81.120069672461298},{"$f":"AE47/(1+Предпосылки!$F$51)^AE1","v":80.855370230333861},{"$f":"AF47/(1+Предпосылки!$F$51)^AF1","v":80.591534517674873},{"$f":"AG47/(1+Предпосылки!$F$51)^AG1","v":80.328559716085593},{"$f":"AH47/(1+Предпосылки!$F$51)^AH1","v":80.066443016363749},{"$f":"AI47/(1+Предпосылки!$F$51)^AI1","v":79.805181618473753},{"$f":"AJ47/(1+Предпосылки!$F$51)^AJ1","v":79.544772731516616},{"$f":"AK47/(1+Предпосылки!$F$51)^AK1","v":79.285213573700261},{"$f":"AL47/(1+Предпосылки!$F$51)^AL1","v":79.026501372309724},{"$f":"AM47/(1+Предпосылки!$F$51)^AM1","v":78.768633363677608}]
[null,"Накопленный DCF по расходам","тыс. руб.",{"$f":"SUM(D49:AM49)","v":4142.5675956192399}]
[null,"Окупаемость капитальных вложений","мес.",{"$f":"D57","v":13}]
[]
[]
[null,null,1,{"$f":"D31*D1","v":274.91200961751093},{"$f":"E31*E1","v":349.33300535444545},522.28966756911564,694.11387521880749,864.81117726839557,1034.387098527432,1202.8471397487046,1370.1967777264074,1536.4414653939284,1701.5866319212528,1865.6376828119869,2028.599999999999,2190.4789419456824,2351.2798437318429,2511.0080171592085,2669.6687508415662,2827.2673103005222,2983.808938059899,3139.2988537397496,3293.7422541500159,3447.144313383812,3599.5101829103405,3750.844991667454,3901.1538461538421,4050.4418305208601,4198.7140066640031,4345.9754143140126,4492.2310711276332,4637.4859727780031,4781.7450930447067,4925.0133839034497,5067.2957756154065,5208.5971768161962,5348.9224746045247,5488.2765346304705,5626.6642011834228]
[null,null,2,{"$f":"D49","v":729.81876328085218},{"$f":"E49+D55","v":1314.587733213644},{"$f":"F49+E55","v":1402.3272005713782},1489.7803690125074,1576.9481727468246,1663.8315429357428,1750.431407702242,1836.7486921407833,1922.7843183271918,2008.5392053285061,2094.0142692127965,2179.2104230589503,2264.1285769664264,2348.7696380649768,2433.1345105243367,2517.224095563884,2601.0392914622657,2684.5809935669949,2767.8500943040135,2850.8474831872263,2933.5740468280037,3016.030668944652,3098.2182303718541,3180.1376090700787,3261.7896801349593,3343.1753158066422,3424.2953854791035,3505.1507557094374,3585.7422902271123,3666.070849943198,3746.1372929595618,3825.9424745780357,3905.4872473095525,3984.7724608832527,4063.7989622555624,4142.5675956192399]
[null,null,null,{"$f":"D54-D55","v":-454.90675366334125},{"$f":"E54-E55","v":-965.25472785919851},-880.03753300226253,-795.66649379369994,-712.13699547842907,-629.4444444083108,-547.58426795353739,-466.55191441437591,-386.34285293326343,-306.95257340725334,-228.37658640080963,-150.61042305895126,-73.649635020743972,2.5102056668661135,77.873506634871774,152.44465527768216,226.2280188382565,299.22794449290404,371.44875943573606,442.89477096278961,513.5702665558083,583.47951396568851,652.62676129559986,721.01623708376337,788.65215038590077,855.53869085736096,921.68002883490908,987.08031541819582,1051.7436825508908,1115.6742431015086,1178.8760909438879,1241.3533010373708,1303.1099295066438,1364.150013721272,1424.477572374908,1484.0966055641829]
[null,null,null,{"$f":"IF(SUM(E57:AM57)=0, \"Не окупается на горизонте прогноза\",SUM(E57:AM57) -1)","v":13},{"$f":"IF(E$1>0,IF(E56>0,E$1,0),0)","v":0},{"$f":"IF(F$1>0,IF(AND(F56>0,E56<=0),F$1,0),0)","v":0},{"$f":"IF(G$1>0,IF(AND(G56>0,F56<=0),G$1,0),0)","v":0},0,0,0,0,0,0,0,0,0,14,0,0,0,0,0,0,0,0,0,0,0,0,0,0,0,0,0,0,0,0,0,0]

{"sheet":"Предпосылки","index":3,"n_rows":54,"n_cols":7,"rows_kept":54,"cut":false,"hidden":false,"merged":[[45,2,45,3],[8,2,8,3]]}
[]
[null,null,"ПРЕДПОСЫЛКИ"]
[]
[null,null,"Показатель",null,"ед. изм.","сумма","источник"]
[]
[null,1,"Без терминала (информация о клиенте на сегодняшний день)"]
[]
[null,null,"Количество кассовых аппаратов"]
[null,null,"Количество кассовых аппаратов в день, работающих одновременно",null,"ед.",{"$f":"Анкета!E31","v":3},"Данные клиента"]
[]
[null,null,"   Среднемесячная выручка",null,"руб. в мес.",{"$f":"F12*F13*F14*F9","v":3780000},"Расчет / Данные клиента"]
[null,null,null,"Средний чек","руб.",{"$f":"Анкета!E36","v":200},"Данные клиента"]
[null,null,null,"Среднее кол-во покупателей","чел. в день",{"$f":"Анкета!E37","v":300},"Данные клиента"]
[null,null,null,"Количество рабочих дней","дн. в месяц",{"$f":"Анкета!E38","v":21},"Данные клиента"]
[null,null,"OPEX, в месяц",null,null,{"$f":"F16","v":58604}]
[null,null,"Расходы на одного кассира",null,"руб. в мес.",{"$f":"F17+F21+F22+F27+F28","v":58604},"Расчет"]
[null,null,"   Ежемесячный ФОТ кассира (с учетом страховых взносов)",null,"руб.",{"$f":"F18+F19","v":54684},"Расчет "]
[null,null,null,"Месячная заработная плата кассира","руб.",{"$f":"Анкета!E29","v":42000},"Данные клиента"]
[null,null,null,"Объем взносов в социальные фонды","руб.",{"$f":"F18*F20","v":12684},"Расчет"]
[null,null,null,"Общий тариф страховых взносов","%",0.30199999999999999,"Данные НК РФ"]
[null,null,"   ПЦР тесты",null,"руб.",0,"Расчет"]
[null,null,"   Ежемесячное питание сотрудников",null,"руб.",{"$f":"F23*F26","v":2520},"Расчет "]
[null,null,null,"Расходы на питание 1-го кассира","руб. в день",{"$f":"F24*F25","v":120},"Расчет"]
[null,null,null,"Средняя себестоимость 1-го приема пищи для 1-го кассира","руб.",{"$f":"Анкета!E39","v":60},"Данные клиента"]
[null,null,null,"Кол-во приемов пищи 1-м кассиром","раз в день",{"$f":"Анкета!E40","v":2},"Данные клиента"]
[null,null,null,"Количество рабочих дней одного кассира","дн. в месяц",{"$f":"Анкета!E38","v":21},"Данные клиента"]
[null,null,"   Медицинская книжка",null,"руб.",400,"Расчет"]
[null,null,"   Среднемесячные расходы на подбор кассиров",null,"руб.",{"$f":"Анкета!E35","v":1000},"Данные клиента"]
[]
[null,null,"CAPEX",null,null,{"$f":"SUM(F31:F32)","v":119500}]
[null,null,"Униформа на 1-го кассира",null,"руб.",{"$f":"Анкета!E46","v":1500},"Данные клиента"]
[null,null,"Стоимость оборудования для 1-ой кассовой точки",null,"руб.",{"$f":"SUM(F33:F36)","v":118000},"Расчет"]
[null,null,null,"Кассовый терминал","руб.",{"$f":"Анкета!E42","v":65000},"Данные клиента"]
[null,null,null,"Фискальный принтер","руб.",{"$f":"Анкета!E43","v":32000},"Данные клиента"]
[null,null,null,"POS-система","руб.",{"$f":"Анкета!E44","v":20000},"Данные клиента"]
[null,null,null,"Стол и стул","руб.",{"$f":"Анкета!E45","v":1000},"Данные клиента"]
[]
[null,2,"Изменения после покупки терминала"]
[]
[null,null,"OPEX, в месяц",null,null,{"$f":"F41+F42","v":45000}]
[null,null,"Расходы на ТО и поддержку",null,"руб.",{"$f":"'Данные СМС'!C24","v":15000},"Данные SMS"]
[null,null,"Расходы на аренду терминала",null,"руб.",{"$f":"'Данные СМС'!C22","v":30000},"Данные SMS"]
[]
[null,null,"CAPEX",null,null,{"$f":"SUM(F45:F46)","v":500000}]
[null,null,"Стоимость покупки терминала",null,"руб.",{"$f":"'Данные СМС'!C21","v":500000},"Данные SMS"]
[null,null,"Стоимость Разметки",null,"руб.",{"$f":"'Данные СМС'!C23","v":"35000-700000"},"Данные SMS"]
[]
[null,3,"Дополнительные данные для прогноза"]
[]
[null,null,"Годовая ставка дисконтирования, %",null,"%",0.04,"Экспертная оценка"]
[null,null,"Месячная ставка дисконтирования, %",null,"%",{"$f":"(F50+1)^(1/12)-1","v":3.2737397821989145E-3},"Расчет"]
[null,null,"Скорость работы терминала",null,"сек.",15,"Данные SMS"]
[null,null,"Темп роста выручки (в мес.)",null,"%",{"$f":"IF(Анкета!E49=\"н/д\", 'Данные СМС'!C26, Анкета!E49)","v":0},"Данные клиента / оценка SMS"]
[null,null,"Темп роста доли безналичных платежей (в мес.)",null,"%",{"$f":"IF(Анкета!E51=\"н/д\", 'Данные СМС'!C28,Анкета!E51)","v":0},"Данные клиента / оценка SMS"]

{"sheet":"Данные СМС","index":4,"n_rows":28,"n_cols":38,"rows_kept":28,"cut":false,"hidden":false,"merged":[[22,3,22,12],[23,3,23,12],[25,3,25,12],[27,3,27,12],[26,3,26,12],[3,3,3,4],[9,3,9,4],[19,3,19,12],[20,3,20,12],[21,3,21,12]]}
[]
[null,"ДАННЫЕ СМС"]
[]
[null,"Таблица верификации",null,"Комментарий"]
[null,"Исходное количество кассовых аппаратов",{"$f":"Анкета!E31","v":3}]
[null,"Проверка корректности:"]
[null,"   - Сокращение кассовых аппаратов проведено корректно",{"$f":"IF(-SUM(C15:AL15)>$C$5, \"ОШИБКА\", \"ВЕРНО\")","v":"ВЕРНО"}]
[null,"   - Сокращение кассовых аппаратов проведено в соответствии с возможностями терминала",{"$f":"IF(-SUM(C15:AL15)/SUM(C14:AL14)-C10>=Анкета!E34/Предпосылки!F52, \"ОШИБКА\", \"ВЕРНО\")","v":"ВЕРНО"}]
[null,"Рекомендуемая норма замены кассовых аппаратов, ед.",{"$f":"C5-IF(C5=2, 'Технический лист'!E12,IF(C5=3, 'Технический лист'!E19,IF(C5=4,'Технический лист'!E26,IF(C5=5,'Технический лист'!E33,IF(C5=6,'Технический лист'!E40,IF(C5=7,'Технический лист'!E47,IF(C5=8,'Технический лист'!E54,IF(C5=9,'Технический лист'!D61-'Технический лист'!E61,IF(C5=10,'Технический лист'!E68)))))))))","v":2}]
[null,"Возможная погрещность при определении рекомендуемой нормы замены кассовых аппаратов, %",0.2,"Обсуждаемо"]
[]
[null,"Изменения"]
[null,"Действующая","1 мес.","2 мес.","3 мес.","4 мес.","5 мес.","6 мес.","7 мес.","8 мес.","9 мес.","10 мес.","11 мес.","12 мес.","13 мес.","14 мес.","15 мес.","16 мес.","17 мес.","18 мес.","19 мес.","20 мес.","21 мес.","22 мес.","23 мес.","24 мес.","25 мес.","26 мес.","27 мес.","28 мес.","29 мес.","30 мес.","31 мес.","32 мес.","33 мес.","34 мес.","35 мес.","36 мес."]
[null,"Количество терминалов, ед.",{"$f":"IF($B$13=\"Действующая\", 'Расчетные таблицы'!D7+'Расчетные таблицы'!D11, $C$5-1)","v":1},{"$f":"IF($B$13=\"Действующая\", 'Расчетные таблицы'!E11-'Расчетные таблицы'!D11, 0)","v":1},{"$f":"IF($B$13=\"Действующая\", 'Расчетные таблицы'!F11-'Расчетные таблицы'!E11, 0)","v":0},{"$f":"IF($B$13=\"Действующая\", 'Расчетные таблицы'!G11-'Расчетные таблицы'!F11, 0)","v":0},{"$f":"IF($B$13=\"Действующая\", 'Расчетные таблицы'!H11-'Расчетные таблицы'!G11, 0)","v":0},{"$f":"IF($B$13=\"Действующая\", 'Расчетные таблицы'!I11-'Расчетные таблицы'!H11, 0)","v":0},{"$f":"IF($B$13=\"Действующая\", 'Расчетные таблицы'!J11-'Расчетные таблицы'!I11, 0)","v":0},{"$f":"IF($B$13=\"Действующая\", 'Расчетные таблицы'!K11-'Расчетные таблицы'!J11, 0)","v":0},{"$f":"IF($B$13=\"Действующая\", 'Расчетные таблицы'!L11-'Расчетные таблицы'!K11, 0)","v":0},{"$f":"IF($B$13=\"Действующая\", 'Расчетные таблицы'!M11-'Расчетные таблицы'!L11, 0)","v":0},{"$f":"IF($B$13=\"Действующая\", 'Расчетные таблицы'!N11-'Расчетные таблицы'!M11, 0)","v":0},{"$f":"IF($B$13=\"Действующая\", 'Расчетные таблицы'!O11-'Расчетные таблицы'!N11, 0)","v":0},{"$f":"IF($B$13=\"Действующая\", 'Расчетные таблицы'!P11-'Расчетные таблицы'!O11, 0)","v":0},{"$f":"IF($B$13=\"Действующая\", 'Расчетные таблицы'!Q11-'Расчетные таблицы'!P11, 0)","v":0},{"$f":"IF($B$13=\"Действующая\", 'Расчетные таблицы'!R11-'Расчетные таблицы'!Q11, 0)","v":0},{"$f":"IF($B$13=\"Действующая\", 'Расчетные таблицы'!S11-'Расчетные таблицы'!R11, 0)","v":0},{"$f":"IF($B$13=\"Действующая\", 'Расчетные таблицы'!T11-'Расчетные таблицы'!S11, 0)","v":0},{"$f":"IF($B$13=\"Действующая\", 'Расчетные таблицы'!U11-'Расчетные таблицы'!T11, 0)","v":0},{"$f":"IF($B$13=\"Действующая\", 'Расчетные таблицы'!V11-'Расчетные таблицы'!U11, 0)","v":0},{"$f":"IF($B$13=\"Действующая\", 'Расчетные таблицы'!W11-'Расчетные таблицы'!V11, 0)","v":0},{"$f":"IF($B$13=\"Действующая\", 'Расчетные таблицы'!X11-'Расчетные таблицы'!W11, 0)","v":0},{"$f":"IF($B$13=\"Действующая\", 'Расчетные таблицы'!Y11-'Расчетные таблицы'!X11, 0)","v":0},{"$f":"IF($B$13=\"Действующая\", 'Расчетные таблицы'!Z11-'Расчетные таблицы'!Y11, 0)","v":0},{"$f":"IF($B$13=\"Действующая\", 'Расчетные таблицы'!AA11-'Расчетные таблицы'!Z11, 0)","v":0},{"$f":"IF($B$13=\"Действующая\", 'Расчетные таблицы'!AB11-'Расчетные таблицы'!AA11, 0)","v":0},{"$f":"IF($B$13=\"Действующая\", 'Расчетные таблицы'!AC11-'Расчетные таблицы'!AB11, 0)","v":0},{"$f":"IF($B$13=\"Действующая\", 'Расчетные таблицы'!AD11-'Расчетные таблицы'!AC11, 0)","v":0},{"$f":"IF($B$13=\"Действующая\", 'Расчетные таблицы'!AE11-'Расчетные таблицы'!AD11, 0)","v":0},{"$f":"IF($B$13=\"Действующая\", 'Расчетные таблицы'!AF11-'Расчетные таблицы'!AE11, 0)","v":0},{"$f":"IF($B$13=\"Действующая\", 'Расчетные таблицы'!AG11-'Расчетные таблицы'!AF11, 0)","v":0},{"$f":"IF($B$13=\"Действующая\", 'Расчетные таблицы'!AH11-'Расчетные таблицы'!AG11, 0)","v":0},{"$f":"IF($B$13=\"Действующая\", 'Расчетные таблицы'!AI11-'Расчетные таблицы'!AH11, 0)","v":0},{"$f":"IF($B$13=\"Действующая\", 'Расчетные таблицы'!AJ11-'Расчетные таблицы'!AI11, 0)","v":0},{"$f":"IF($B$13=\"Действующая\", 'Расчетные таблицы'!AK11-'Расчетные таблицы'!AJ11, 0)","v":0},{"$f":"IF($B$13=\"Действующая\", 'Расчетные таблицы'!AL11-'Расчетные таблицы'!AK11, 0)","v":0},{"$f":"IF($B$13=\"Действующая\", 'Расчетные таблицы'!AM11-'Расчетные таблицы'!AL11, 0)","v":0}]
[null,"Количество кассовых аппаратов, ед.",{"$f":"IF($B$13=\"Действующая\", 'Расчетные таблицы'!D12-'Расчетные таблицы'!D8, -($C$5-1))","v":-1},{"$f":"IF($B$13=\"Действующая\", 'Расчетные таблицы'!E12-'Расчетные таблицы'!D12, 0)","v":-1},{"$f":"IF($B$13=\"Действующая\", 'Расчетные таблицы'!F12-'Расчетные таблицы'!E12, 0)","v":0},{"$f":"IF($B$13=\"Действующая\", 'Расчетные таблицы'!G12-'Расчетные таблицы'!F12, 0)","v":0},{"$f":"IF($B$13=\"Действующая\", 'Расчетные таблицы'!H12-'Расчетные таблицы'!G12, 0)","v":0},{"$f":"IF($B$13=\"Действующая\", 'Расчетные таблицы'!I12-'Расчетные таблицы'!H12, 0)","v":0},{"$f":"IF($B$13=\"Действующая\", 'Расчетные таблицы'!J12-'Расчетные таблицы'!I12, 0)","v":0},{"$f":"IF($B$13=\"Действующая\", 'Расчетные таблицы'!K12-'Расчетные таблицы'!J12, 0)","v":0},{"$f":"IF($B$13=\"Действующая\", 'Расчетные таблицы'!L12-'Расчетные таблицы'!K12, 0)","v":0},{"$f":"IF($B$13=\"Действующая\", 'Расчетные таблицы'!M12-'Расчетные таблицы'!L12, 0)","v":0},{"$f":"IF($B$13=\"Действующая\", 'Расчетные таблицы'!N12-'Расчетные таблицы'!M12, 0)","v":0},{"$f":"IF($B$13=\"Действующая\", 'Расчетные таблицы'!O12-'Расчетные таблицы'!N12, 0)","v":0},{"$f":"IF($B$13=\"Действующая\", 'Расчетные таблицы'!P12-'Расчетные таблицы'!O12, 0)","v":0},{"$f":"IF($B$13=\"Действующая\", 'Расчетные таблицы'!Q12-'Расчетные таблицы'!P12, 0)","v":0},{"$f":"IF($B$13=\"Действующая\", 'Расчетные таблицы'!R12-'Расчетные таблицы'!Q12, 0)","v":0},{"$f":"IF($B$13=\"Действующая\", 'Расчетные таблицы'!S12-'Расчетные таблицы'!R12, 0)","v":0},{"$f":"IF($B$13=\"Действующая\", 'Расчетные таблицы'!T12-'Расчетные таблицы'!S12, 0)","v":0},{"$f":"IF($B$13=\"Действующая\", 'Расчетные таблицы'!U12-'Расчетные таблицы'!T12, 0)","v":0},{"$f":"IF($B$13=\"Действующая\", 'Расчетные таблицы'!V12-'Расчетные таблицы'!U12, 0)","v":0},{"$f":"IF($B$13=\"Действующая\", 'Расчетные таблицы'!W12-'Расчетные таблицы'!V12, 0)","v":0},{"$f":"IF($B$13=\"Действующая\", 'Расчетные таблицы'!X12-'Расчетные таблицы'!W12, 0)","v":0},{"$f":"IF($B$13=\"Действующая\", 'Расчетные таблицы'!Y12-'Расчетные таблицы'!X12, 0)","v":0},{"$f":"IF($B$13=\"Действующая\", 'Расчетные таблицы'!Z12-'Расчетные таблицы'!Y12, 0)","v":0},{"$f":"IF($B$13=\"Действующая\", 'Расчетные таблицы'!AA12-'Расчетные таблицы'!Z12, 0)","v":0},{"$f":"IF($B$13=\"Действующая\", 'Расчетные таблицы'!AB12-'Расчетные таблицы'!AA12, 0)","v":0},{"$f":"IF($B$13=\"Действующая\", 'Расчетные таблицы'!AC12-'Расчетные таблицы'!AB12, 0)","v":0},{"$f":"IF($B$13=\"Действующая\", 'Расчетные таблицы'!AD12-'Расчетные таблицы'!AC12, 0)","v":0},{"$f":"IF($B$13=\"Действующая\", 'Расчетные таблицы'!AE12-'Расчетные таблицы'!AD12, 0)","v":0},{"$f":"IF($B$13=\"Действующая\", 'Расчетные таблицы'!AF12-'Расчетные таблицы'!AE12, 0)","v":0},{"$f":"IF($B$13=\"Действующая\", 'Расчетные таблицы'!AG12-'Расчетные таблицы'!AF12, 0)","v":0},{"$f":"IF($B$13=\"Действующая\", 'Расчетные таблицы'!AH12-'Расчетные таблицы'!AG12, 0)","v":0},{"$f":"IF($B$13=\"Действующая\", 'Расчетные таблицы'!AI12-'Расчетные таблицы'!AH12, 0)","v":0},{"$f":"IF($B$13=\"Действующая\", 'Расчетные таблицы'!AJ12-'Расчетные таблицы'!AI12, 0)","v":0},{"$f":"IF($B$13=\"Действующая\", 'Расчетные таблицы'!AK12-'Расчетные таблицы'!AJ12, 0)","v":0},{"$f":"IF($B$13=\"Действующая\", 'Расчетные таблицы'!AL12-'Расчетные таблицы'!AK12, 0)","v":0},{"$f":"IF($B$13=\"Действующая\", 'Расчетные таблицы'!AM12-'Расчетные таблицы'!AL12, 0)","v":0}]
[]
[null,null,"1 мес.","2 мес.","3 мес.","4 мес.","5 мес.","6 мес.","7 мес.","8 мес.","9 мес.","10 мес.","11 мес.","12 мес.","13 мес.","14 мес.","15 мес.","16 мес.","17 мес.","18 мес.","19 мес.","20 мес.","21 мес.","22 мес.","23 мес.","24 мес.","25 мес.","26 мес.","27 мес.","28 мес.","29 мес.","30 мес.","31 мес.","32 мес.","33 мес.","34 мес.","35 мес.","36 мес."]
[null,"Количество терминалов",{"$f":"C14","v":1},{"$f":"SUM($C$14:D14)","v":2},{"$f":"SUM($C$14:E14)","v":2},{"$f":"SUM($C$14:F14)","v":2},{"$f":"SUM($C$14:G14)","v":2},{"$f":"SUM($C$14:H14)","v":2},{"$f":"SUM($C$14:I14)","v":2},{"$f":"SUM($C$14:J14)","v":2},{"$f":"SUM($C$14:K14)","v":2},{"$f":"SUM($C$14:L14)","v":2},{"$f":"SUM($C$14:M14)","v":2},{"$f":"SUM($C$14:N14)","v":2},{"$f":"SUM($C$14:O14)","v":2},{"$f":"SUM($C$14:P14)","v":2},{"$f":"SUM($C$14:Q14)","v":2},{"$f":"SUM($C$14:R14)","v":2},{"$f":"SUM($C$14:S14)","v":2},{"$f":"SUM($C$14:T14)","v":2},{"$f":"SUM($C$14:U14)","v":2},{"$f":"SUM($C$14:V14)","v":2},{"$f":"SUM($C$14:W14)","v":2},{"$f":"SUM($C$14:X14)","v":2},{"$f":"SUM($C$14:Y14)","v":2},{"$f":"SUM($C$14:Z14)","v":2},{"$f":"SUM($C$14:AA14)","v":2},{"$f":"SUM($C$14:AB14)","v":2},{"$f":"SUM($C$14:AC14)","v":2},{"$f":"SUM($C$14:AD14)","v":2},{"$f":"SUM($C$14:AE14)","v":2},{"$f":"SUM($C$14:AF14)","v":2},{"$f":"SUM($C$14:AG14)","v":2},{"$f":"SUM($C$14:AH14)","v":2},{"$f":"SUM($C$14:AI14)","v":2},{"$f":"SUM($C$14:AJ14)","v":2},{"$f":"SUM($C$14:AK14)","v":2},{"$f":"SUM($C$14:AL14)","v":2}]
[null,"Количество кассиров",-1,{"$f":"SUM($C$15:D15)","v":-2},{"$f":"SUM($C$15:E15)","v":-2},{"$f":"SUM($C$15:F15)","v":-2},{"$f":"SUM($C$15:G15)","v":-2},{"$f":"SUM($C$15:H15)","v":-2},{"$f":"SUM($C$15:I15)","v":-2},{"$f":"SUM($C$15:J15)","v":-2},{"$f":"SUM($C$15:K15)","v":-2},{"$f":"SUM($C$15:L15)","v":-2},{"$f":"SUM($C$15:M15)","v":-2},{"$f":"SUM($C$15:N15)","v":-2},{"$f":"SUM($C$15:O15)","v":-2},{"$f":"SUM($C$15:P15)","v":-2},{"$f":"SUM($C$15:Q15)","v":-2},{"$f":"SUM($C$15:R15)","v":-2},{"$f":"SUM($C$15:S15)","v":-2},{"$f":"SUM($C$15:T15)","v":-2},{"$f":"SUM($C$15:U15)","v":-2},{"$f":"SUM($C$15:V15)","v":-2},{"$f":"SUM($C$15:W15)","v":-2},{"$f":"SUM($C$15:X15)","v":-2},{"$f":"SUM($C$15:Y15)","v":-2},{"$f":"SUM($C$15:Z15)","v":-2},{"$f":"SUM($C$15:AA15)","v":-2},{"$f":"SUM($C$15:AB15)","v":-2},{"$f":"SUM($C$15:AC15)","v":-2},{"$f":"SUM($C$15:AD15)","v":-2},{"$f":"SUM($C$15:AE15)","v":-2},{"$f":"SUM($C$15:AF15)","v":-2},{"$f":"SUM($C$15:AG15)","v":-2},{"$f":"SUM($C$15:AH15)","v":-2},{"$f":"SUM($C$15:AI15)","v":-2},{"$f":"SUM($C$15:AJ15)","v":-2},{"$f":"SUM($C$15:AK15)","v":-2},{"$f":"SUM($C$15:AL15)","v":-2}]
[null,"Заполняемые входные данные","Значение","Комментарий"]
[null,"Стоимость покупки терминала, руб.",500000,"Заполняется сотрудником SMS"]
[null,"Стоимость аренды терминала, руб.",30000,"Заполняется сотрудником SMS"]
[null,"Стоимость Разметки, руб.","35000-700000","Заполняется сотрудником SMS"]
[null,"Расходы на ТО и поддержку, руб.",15000,"Заполняется сотрудником SMS"]
[]
[null,"Темп роста выручки (месячный), %",0,"Заполняется сотрудником SMS, в случае если клиент ответил \"н/д\" на соответствующий вопрос в анкете"]
[null,"Темп роста расходов (месячный), % (влияние на OPEX)",0,"Заполняется сотрудником SMS, в случае если клиент ответил \"н/д\" на соответствующий вопрос в анкете"]
[null,"Темп роста доли безналичных платежей (месячный), %",0,"Заполняется сотрудником SMS, в случае если клиент ответил \"н/д\" на соответствующий вопрос в анкете"]

{"sheet":"Технический лист","index":5,"n_rows":89,"n_cols":10,"rows_kept":89,"cut":false,"hidden":false,"merged":[[7,8,7,9],[6,8,6,9]]}
[]
[null,"ТЕХНИЧЕСКИЙ ЛИСТ"]
[]
[null,"Таблицы зависимости необходимого количества внедрений терминалов от изначального количества кассовых зон"]
[]
[null,"Месяцы","Кассовые зоны","Терминалы","Кассиры","Итого кассовых зон"]
[null,1,2,1,1,{"$f":"D7+E7","v":2},null,null,"Для листа \"Расчет эффективности\""]
[null,2,2,1,1,{"$f":"D8+E8","v":2},null,null,"Вид организации"]
[null,3,2,1,1,2,null,null,"Действующая","Стартап"]
[null,4,2,1,1,2,null,null,"Покупка терминалов","Аренда терминалов"]
[null,5,2,1,1,2]
[null,6,2,1,1,2]
[null,"Месяцы","Кассовые зоны","Терминалы","Кассиры","Итого кассовых зон"]
[null,1,3,1,2,{"$f":"D14+E14","v":3}]
[null,2,3,2,1,{"$f":"D15+E15","v":3}]
[null,3,3,2,1,3]
[null,4,3,2,1,3]
[null,5,3,2,1,3]
[null,6,3,2,1,3]
[null,"Месяцы","Кассовые зоны","Терминалы","Кассиры","Итого кассовых зон"]
[null,1,4,1,3,{"$f":"D21+E21","v":4}]
[null,2,4,2,2,{"$f":"D22+E22","v":4}]
[null,3,4,3,1,4]
[null,4,4,3,1,4]
[null,5,4,3,1,4]
[null,6,4,3,1,4]
[null,"Месяцы","Кассовые зоны","Терминалы","Кассиры","Итого кассовых зон"]
[null,1,5,1,4,{"$f":"D28+E28","v":5}]
[null,2,5,2,3,{"$f":"D29+E29","v":5}]
[null,3,5,3,2,5]
[null,4,5,4,1,5]
[null,5,5,4,1,5]
[null,6,5,4,1,5]
[null,"Месяцы","Кассовые зоны","Терминалы","Кассиры","Итого кассовых зон"]
[null,1,6,1,5,{"$f":"D35+E35","v":6}]
[null,2,6,2,4,{"$f":"D36+E36","v":6}]
[null,3,6,3,3,6]
[null,4,6,5,1,6]
[null,5,6,5,1,6]
[null,6,6,5,1,6]
[null,"Месяцы","Кассовые зоны","Терминалы","Кассиры","Итого кассовых зон"]
[null,1,7,1,6,{"$f":"D42+E42","v":7}]
[null,2,7,2,5,{"$f":"D43+E43","v":7}]
[null,3,7,3,4,7]
[null,4,7,6,1,7]
[null,5,7,6,1,7]
[null,6,7,6,1,7]
[null,"Месяцы","Кассовые зоны","Терминалы","Кассиры","Итого кассовых зон"]
[null,1,8,1,7,{"$f":"D49+E49","v":8}]
[null,2,8,2,6,{"$f":"D50+E50","v":8}]
[null,3,8,3,5,8]
[null,4,8,7,1,8]
[null,5,8,7,1,8]
[null,6,8,7,1,8]
[null,"Месяцы","Кассовые зоны","Терминалы","Кассиры","Итого кассовых зон"]
[null,1,9,1,8,{"$f":"D56+E56","v":9}]
[null,2,9,2,7,{"$f":"D57+E57","v":9}]
[null,3,9,3,6,9]
[null,4,9,8,1,9]
[null,5,9,8,1,9]
[null,6,9,8,1,9]
[null,"Месяцы","Кассовые зоны","Терминалы","Кассиры","Итого кассовых зон"]
[null,1,10,1,9,{"$f":"D63+E63","v":10}]
[null,2,10,2,8,{"$f":"D64+E64","v":10}]
[null,3,10,3,7,10]
[null,4,10,9,1,10]
[null,5,10,9,1,10]
[null,6,10,9,1,10]
[]
[null,"Стоимость и сроки разметки блюд "]
[null,"Повторемость блюд в меню"]
[null,"Срок разметки","Ставка за разметку, тыс. руб.",null,null,null,null,null,null,"Повторяемость_блюд_в_меню"]
[null,"7 календарных дней",100000,null,null,null,null,null,null,"Количество_блюд "]
[null,"14 календарных дней",120000]
[null,"21 календарных дней",150000]
[null,"30 календарных дней",200000]
[null,"более 30 календарных дней",300000]
[]
[null,"Стоимость Разметки в зависимости от количества блюд"]
[null,"Количество блюд "]
[null,"Количество блюд","Ставка за разметку, тыс. руб. "]
[null,100,35000]
[null,200,70000]
[null,300,105000]
[null,400,140000]
[null,500,175000]
[null,1000,350000]
[null,1500,525000]
[null,2000,700000]